Workbook
Name Block_1: '[1]Basic Data'!$E$3
Name Date: [2]Basic_Data!$D$3:$D$33
Name Total_75MW: '[1]Basic Data'!$E$6

Sheet Sheet1
B3: EXPORT BILLING
B4: BAY-101 | G4: BAY-102 | K4: Total BAY-01 & BAY-02 ACTUAL EXPORT ENERGY (KWH)
B5: Month | C5: BAY-01 EXPORTED ENERGY(KWH) | G5: BAY-01 EXPORTED ENERGY(KWH)
C6: Previous | D6: Current | E6: Diff. | F6: Total | G6: Previous | H6: Current | I6: Diff. | J6: Total
B7: 42903 | C7: 464.0575 | D7: 1517.325 | E7: =D7-C7 -> 1053.2675 | F7: =E7*6000 -> 6319605 | G7: 875.6075 | H7: 2034.49 | I7: =H7-G7 -> 1158.8825 | J7: =I7*6000 -> 6953295 | K7: =F7+J7 -> 13272900
B8: 42933 | C8: 1517.325 | D8: 2513.4225 | E8: =D8-C8 -> 996.0975 | F8: =E8*6000 -> 5976585 | G8: 2034.49 | H8: 3064.2625 | I8: =H8-G8 -> 1029.7725 | J8: =I8*6000 -> 6178635 | K8: =F8+J8 -> 12155220
B9: 42964 | C9: 2513.4225 | D9: 3632.39 | E9: =D9-C9 -> 1118.9675 | F9: =E9*6000 -> 6713805 | G9: 3064.2625 | H9: 4161.1375 | I9: =H9-G9 -> 1096.875 | J9: =I9*6000 -> 6581250 | K9: =F9+J9 -> 13295055
B10: 42995 | C10: 3632.39 | D10: 4994.08 | E10: =D10-C10 -> 1361.69 | F10: =E10*6000 -> 8170140 | G10: 4161.1375 | H10: 5532.9175 | I10: =H10-G10 -> 1371.78 | J10: =I10*6000 -> 8230680 | K10: =F10+J10 -> 16400820
B11: 43025 | C11: 4994.08 | D11: 6482.5675 | E11: =D11-C11 -> 1488.4875 | F11: =E11*6000 -> 8930925 | G11: 5532.9175 | H11: 7033.4525 | I11: =H11-G11 -> 1500.535 | J11: =I11*6000 -> 9003210 | K11: =F11+J11 -> 17934135
B12: 43056 | C12: 6482.5675 | D12: 7851.6525 | E12: =D12-C12 -> 1369.085 | F12: =E12*6000 -> 8214510 | G12: 7033.4525 | H12: 8467.6425 | I12: =H12-G12 -> 1434.19 | J12: =I12*6000 -> 8605140 | K12: =F12+J12 -> 16819650
B13: 43086 | C13: 7851.6525 | D13: 9189.7275 | E13: =D13-C13 -> 1338.075 | F13: =E13*6000 -> 8028450 | G13: 8467.6425 | H13: 9825.8475 | I13: =H13-G13 -> 1358.205 | J13: =I13*6000 -> 8149230 | K13: =F13+J13 -> 16177680
B14: 43117 | C14: 9189.7275 | D14: 10781.565 | E14: =D14-C14 -> 1591.8375 | F14: =E14*6000 -> 9551025 | G14: 9825.8475 | H14: 11433.66 | I14: =H14-G14 -> 1607.8125 | J14: =I14*6000 -> 9646875 | K14: =F14+J14 -> 19197900
B15: 43148 | C15: 10781.565 | D15: 12286.645 | E15: =D15-C15 -> 1505.08 | F15: =E15*6000 -> 9030480 | G15: 11433.66 | H15: 12956.267 | I15: =H15-G15 -> 1522.6075 | J15: =I15*6000 -> 9135645 | K15: =F15+J15 -> 18166125
B16: 43176 | C16: 12286.645 | D16: 13974.04 | E16: =D16-C16 -> 1687.395 | F16: =E16*6000 -> 10124370 | G16: 12956.267 | H16: 14673.097 | I16: =H16-G16 -> 1716.83 | J16: =I16*6000 -> 10300980 | K16: =F16+J16 -> 20425350
B17: 43207 | C17: 13974.04 | D17: 15686.603 | E17: =D17-C17 -> 1712.5625 | F17: =E17*6000 -> 10275375 | G17: 14673.097 | H17: 16405.217 | I17: =H17-G17 -> 1732.12 | J17: =I17*6000 -> 10392720 | K17: =F17+J17 -> 20668095
B18: 43237 | C18: 15686.603 | D18: 17505.465 | E18: =D18-C18 -> 1818.8625 | F18: =E18*6000 -> 10913175 | G18: 16405.217 | H18: 18223.007 | I18: =H18-G18 -> 1817.79 | J18: =I18*6000 -> 10906740 | K18: =F18+J18 -> 21819915
... B24: 43422 | C24: 23864.978 | D24: 25424.257 | E24: =D24-C24 -> 1559.28 | F24: =E24*6000 -> 9355680 | G24: 24642.805 | H24: 26209.455 | I24: =H24-G24 -> 1566.65 | J24: =I24*6000 -> 9399900 | K24: =F24+J24 -> 18755580
B25: 43452 | C25: =D24 -> 25424.257 | D25: 27017.105 | E25: =D25-C25 -> 1592.8475 | F25: =E25*6000 -> 9557085 | G25: =H24 -> 26209.455 | H25: 27809.013 | I25: =H25-G25 -> 1599.5575 | J25: =I25*6000 -> 9597345 | K25: =F25+J25 -> 19154430
B26: 43484 | C26: =D25 -> 27017.105 | D26: 28685.272 | E26: =D26-C26 -> 1668.1675 | F26: =E26*6000 -> 10009005 | G26: =H25 -> 27809.013 | H26: 29484.775 | I26: =H26-G26 -> 1675.7625 | J26: =I26*6000 -> 10054575 | K26: =F26+J26 -> 20063580
B27: 43515 | C27: =D26 -> 28685.272 | D27: 30248.868 | E27: =D27-C27 -> 1563.595 | F27: =E27*6000 -> 9381570 | G27: =H26 -> 29484.775 | H27: 31047.597 | I27: =H27-G27 -> 1562.8225 | J27: =I27*6000 -> 9376935 | K27: =F27+J27 -> 18758505
B28: 43543 | C28: =D27 -> 30248.868 | D28: 32091.115 | E28: =D28-C28 -> 1842.2475 | F28: =E28*6000 -> 11053485 | G28: =H27 -> 31047.597 | H28: 32887.942 | I28: =H28-G28 -> 1840.345 | J28: =I28*6000 -> 11042070 | K28: =F28+J28 -> 22095555
B53: Total | F53: =SUM(F7:F52) -> 1.8976235e+08 | J53: =SUM(J7:J52) -> 192074010 | K53: =SUM(K7:K52) -> 381836355

Sheet BAY 101
A1: Month | B1: Metering Start date | C1: Metering End date | D1: BAY-101 Energy Export | I1: BAY-101 Energy Import (kWh)
D2: Start Reading | E2: End Reading | F2: Difference | G2: Multiplication Factor | H2: Energy Export (kWh) | I2: Start Reading | J2: End Reading | K2: Difference | L2: Multiplication Factor | M2: Energy Import
A3: 43862 | B3: 43862 | C3: 43890 | D3: 45691.375 | E3: 47261.272 | F3: =E3-D3 -> 1569.8975 | G3: 6000 | H3: =F3*G3 -> 9419385 | I3: 265.755 | J3: 272.13 | K3: =J3-I3 -> 6.375 | L3: 6000 | M3: =K3*L3 -> 38250
A4: 43891 | B4: 43891 | C4: 43921 | D4: =E3 -> 47261.272 | E4: 49030.787 | F4: =E4-D4 -> 1769.515 | G4: 6000 | H4: =F4*G4 -> 10617090 | I4: =J3 -> 272.13 | J4: 278.79 | K4: =J4-I4 -> 6.66 | L4: 6000 | M4: =K4*L4 -> 39960
A5: 43922 | B5: 43922 | C5: 43951 | D5: =E4 -> 49030.787 | E5: 50704.052 | F5: =E5-D5 -> 1673.265 | G5: 6000 | H5: =F5*G5 -> 10039590 | I5: =J4 -> 278.79 | J5: 285.0475 | K5: =J5-I5 -> 6.2575 | L5: 6000 | M5: =K5*L5 -> 37545
A6: 43952 | B6: 43952 | C6: 43982 | D6: =E5 -> 50704.052 | E6: 52523.287 | F6: =E6-D6 -> 1819.235 | G6: 6000 | H6: =F6*G6 -> 10915410 | I6: =J5 -> 285.0475 | J6: 291.6625 | K6: =J6-I6 -> 6.615 | L6: 6000 | M6: =K6*L6 -> 39690
A7: 43983 | B7: 43983 | C7: 44012 | D7: =E6 -> 52523.287 | E7: 53858.68 | F7: =E7-D7 -> 1335.3925 | G7: 6000 | H7: =F7*G7 -> 8012355 | I7: =J6 -> 291.6625 | J7: 297.4775 | K7: =J7-I7 -> 5.815 | L7: 6000 | M7: =K7*L7 -> 34890
A8: 44013 | B8: 44013 | C8: 44043 | D8: =E7 -> 53858.68 | E8: 55184.243 | F8: =E8-D8 -> 1325.5625 | G8: 6000 | H8: =F8*G8 -> 7953375 | I8: =J7 -> 297.4775 | J8: 303.7225 | K8: =J8-I8 -> 6.245 | L8: 6000 | M8: =K8*L8 -> 37470
A9: 44044 | B9: 44044 | C9: 44074 | D9: =E8 -> 55184.243 | E9: 56196.427 | F9: =E9-D9 -> 1012.185 | G9: 6000 | H9: =F9*G9 -> 6073110 | I9: =J8 -> 303.7225 | J9: 310.385 | K9: =J9-I9 -> 6.6625 | L9: 6000 | M9: =K9*L9 -> 39975
A10: 44075 | B10: 44075 | C10: 44104 | D10: =E9 -> 56196.427 | E10: 57351.625 | F10: =E10-D10 -> 1155.1975 | G10: 6000 | H10: =F10*G10 -> 6931185 | I10: =J9 -> 310.385 | J10: 316.21 | K10: =J10-I10 -> 5.825 | L10: 6000 | M10: =K10*L10 -> 34950
A11: 44105 | B11: 44105 | C11: 44135 | D11: =E10 -> 57351.625 | E11: 58413.705 | F11: =E11-D11 -> 1062.08 | G11: 6000 | H11: =F11*G11 -> 6372480 | I11: =J10 -> 316.21 | J11: 321.875 | K11: =J11-I11 -> 5.665 | L11: 6000 | M11: =K11*L11 -> 33990
A12: 44136 | B12: 44136 | C12: 44140 | D12: 184.2975 | E12: 875.2425 | F12: =D12+E12 -> 1059.54 | G12: 6000 | H12: =F12*G12 -> 6357240 | I12: 0.935 | J12: 5.6675 | K12: =I12+J12 -> 6.6025 | L12: 6000 | M12: =K12*L12 -> 39615
B13: 44141 | C13: 44165
A14: 44166 | B14: 44166 | C14: 44196 | D14: 1248.69 | E14: 2307.02 | F14: =E14-D14 -> 1058.33 | G14: 6000 | H14: =F14*G14 -> 6349980 | I14: 371.2175 | J14: 378.39 | K14: =J14-I14 -> 7.1725 | L14: 6000 | M14: =K14*L14 -> 43035
A15: 44197 | B15: 44197 | C15: 44227 | D15: =E14 -> 2307.02 | E15: 3737.385 | F15: =E15-D15 -> 1430.365 | G15: 6000 | H15: =F15*G15 -> 8582190 | I15: =J14 -> 378.39 | J15: 386.7475 | K15: =J15-I15 -> 8.3575 | L15: 6000 | M15: =K15*L15 -> 50145
A16: 44228 | B16: 44228 | C16: 44255 | D16: =E15 -> 3737.385 | E16: 5283.21 | F16: =E16-D16 -> 1545.825 | G16: 6000 | H16: =F16*G16 -> 9274950 | I16: =J15 -> 386.7475 | J16: 393.8925 | K16: =J16-I16 -> 7.145 | L16: 6000 | M16: =K16*L16 -> 42870
A17: 44256 | B17: 44256 | C17: 43921 | D17: =E16 -> 5283.21 | E17: 7004.6625 | F17: =E17-D17 -> 1721.4525 | G17: 6000 | H17: =F17*G17 -> 10328715 | I17: =J16 -> 393.8925 | J17: 401.005 | K17: =J17-I17 -> 7.1125 | L17: 6000 | M17: =K17*L17 -> 42675

Sheet BAY 102
A1: Month | B1: Metering Start date | C1: Metering End date | D1: BAY-101 Energy Export | I1: BAY-101 Energy Import (kWh)
D2: Start Reading | E2: End Reading | F2: Difference | G2: Multiplication Factor | H2: Energy Export (kWh) | I2: Start Reading | J2: End Reading | K2: Difference | L2: Multiplication Factor | M2: Energy Import
A3: 43862 | B3: 43862 | C3: 43890 | D3: 46624.79 | E3: 48211.975 | F3: =E3-D3 -> 1587.185 | G3: 6000 | H3: =F3*G3 -> 9523110 | I3: 249.605 | J3: 255.88 | K3: =J3-I3 -> 6.275 | L3: 6000 | M3: =K3*L3 -> 37650
A4: 43891 | B4: 43891 | C4: 43921 | D4: =E3 -> 48211.975 | E4: 49984.058 | F4: =E4-D4 -> 1772.0825 | G4: 6000 | H4: =F4*G4 -> 10632495 | I4: =J3 -> 255.88 | J4: 261.815 | K4: =J4-I4 -> 5.935 | L4: 6000 | M4: =K4*L4 -> 35610
A5: 43922 | B5: 43922 | C5: 43951 | D5: =E4 -> 49984.058 | E5: 51663.88 | F5: =E5-D5 -> 1679.8225 | G5: 6000 | H5: =F5*G5 -> 10078935 | I5: =J4 -> 261.815 | J5: 267.1675 | K5: =J5-I5 -> 5.3525 | L5: 6000 | M5: =K5*L5 -> 32115
A6: 43952 | B6: 43952 | C6: 43982 | D6: =E5 -> 51663.88 | E6: 53495.562 | F6: =E6-D6 -> 1831.6825 | G6: 6000 | H6: =F6*G6 -> 10990095 | I6: =J5 -> 267.1675 | J6: 272.55 | K6: =J6-I6 -> 5.3825 | L6: 6000 | M6: =K6*L6 -> 32295
A7: 43983 | B7: 43983 | C7: 44012 | D7: =E6 -> 53495.562 | E7: 54864.463 | F7: =E7-D7 -> 1368.9 | G7: 6000 | H7: =F7*G7 -> 8213400 | I7: =J6 -> 272.55 | J7: 277.9675 | K7: =J7-I7 -> 5.4175 | L7: 6000 | M7: =K7*L7 -> 32505
A8: 44013 | B8: 44013 | C8: 44043 | D8: =E7 -> 54864.463 | E8: 56218.595 | F8: =E8-D8 -> 1354.1325 | G8: 6000 | H8: =F8*G8 -> 8124795 | I8: =J7 -> 277.9675 | J8: 283.53 | K8: =J8-I8 -> 5.5625 | L8: 6000 | M8: =K8*L8 -> 33375
A9: 44044 | B9: 44044 | C9: 44074 | D9: =E8 -> 56218.595 | E9: 57238.812 | F9: =E9-D9 -> 1020.2175 | G9: 6000 | H9: =F9*G9 -> 6121305 | I9: =J8 -> 283.53 | J9: 289.79 | K9: =J9-I9 -> 6.26 | L9: 6000 | M9: =K9*L9 -> 37560
A10: 44075 | B10: 44075 | C10: 44104 | D10: =E9 -> 57238.812 | E10: 58403.16 | F10: =E10-D10 -> 1164.3475 | G10: 6000 | H10: =F10*G10 -> 6986085 | I10: =J9 -> 289.79 | J10: 295.945 | K10: =J10-I10 -> 6.155 | L10: 6000 | M10: =K10*L10 -> 36930
A11: 44105 | B11: 44105 | C11: 44135 | D11: =E10 -> 58403.16 | E11: 59464.202 | F11: =E11-D11 -> 1061.0425 | G11: 6000 | H11: =F11*G11 -> 6366255 | I11: =J10 -> 295.945 | J11: 302.06 | K11: =J11-I11 -> 6.115 | L11: 6000 | M11: =K11*L11 -> 36690
A12: 44136 | B12: 44136 | C12: 44140 | D12: 184.1025 | E12: 874.165 | F12: =D12+E12 -> 1058.2675 | G12: 6000 | H12: =F12*G12 -> 6349605 | I12: 0.9075 | J12: 5.68 | K12: =I12+J12 -> 6.5875 | L12: 6000 | M12: =K12*L12 -> 39525
B13: 44141 | C13: 44165
A14: 44166 | B14: 44166 | C14: 44196 | D14: 1247.5475 | E14: 2305.67 | F14: =E14-D14 -> 1058.1225 | G14: 6000 | H14: =F14*G14 -> 6348735 | I14: 371.1675 | J14: 378.195 | K14: =J14-I14 -> 7.0275 | L14: 6000 | M14: =K14*L14 -> 42165
A15: 44197 | B15: 44197 | C15: 44227 | D15: =E14 -> 2305.67 | E15: 3762.07 | F15: =E15-D15 -> 1456.4 | G15: 6000 | H15: =F15*G15 -> 8738400 | I15: =J14 -> 378.195 | J15: 385.4325 | K15: =J15-I15 -> 7.2375 | L15: 6000 | M15: =K15*L15 -> 43425
A16: 44228 | B16: 44228 | C16: 44255 | D16: =E15 -> 3762.07 | E16: 5334.4725 | F16: =E16-D16 -> 1572.4025 | G16: 6000 | H16: =F16*G16 -> 9434415 | I16: =J15 -> 385.4325 | J16: 391.6425 | K16: =J16-I16 -> 6.21 | L16: 6000 | M16: =K16*L16 -> 37260
A17: 44256 | B17: 44256 | C17: 43921 | D17: =E16 -> 5334.4725 | E17: 7067.9275 | F17: =E17-D17 -> 1733.455 | G17: 6000 | H17: =F17*G17 -> 10400730 | I17: =J16 -> 391.6425 | J17: 398.575 | K17: =J17-I17 -> 6.9325 | L17: 6000 | M17: =K17*L17 -> 41595

Sheet SDG 13
A1: Month | B1: Metering Start date | C1: Metering End date | D1: BAY-101 Energy Export (kWh) | E1: BAY-102 Energy Export (kWh) | F1: Total Energy Export (MWh) | G1: BAY-101 Energy Import (kWh) | H1: BAY-102 Energy Import (kWh) | I1: Total Energy Import (MWh) | J1: Total Net Electricity (MWh) | L1: Year | M1: Vintage | N1: Total Export (MWh) | O1: Total Import (MWh) | P1: Net Export (MWh) | Q1: Grid Emission factor (tCO2/MWh) | R1: Emission reduction (tCO2)
A2: 43862 | B2: 43862 | C2: 43890 | D2: ='BAY 101'!H3 -> 9419385 | E2: ='BAY 102'!H3 -> 9523110 | F2: =(D2+E2)/1000 -> 18942.495 | G2: ='BAY 101'!M3 -> 38250 | H2: ='BAY 102'!M3 -> 37650 | I2: =(G2+H2)/1000 -> 75.9 | J2: =(F2-I2) -> 18866.595 | L2: 2020 | M2: 01/02/2020 to 31/12/2020 | N2: =SUM(F2:F12) -> 178776.02 | O2: =SUM(I2:I12) -> 815.79 | P2: =SUM(J2:J12) -> 177960.22 | Q2: 0.9777 | R2: =ROUNDDOWN(P2*Q2,0) -> 173991
A3: 43891 | B3: 43891 | C3: 43921 | D3: ='BAY 101'!H4 -> 10617090 | E3: ='BAY 102'!H4 -> 10632495 | F3: =(D3+E3)/1000 -> 21249.585 | G3: ='BAY 101'!M4 -> 39960 | H3: ='BAY 102'!M4 -> 35610 | I3: =(G3+H3)/1000 -> 75.57 | J3: =(F3-I3) -> 21174.015 | L3: 2021 | M3: 01/01/20121 to 31/03/2021 | N3: =SUM(F13:F15) -> 56759.4 | O3: =SUM(I13:I15) -> 257.97 | P3: =SUM(J13:J15) -> 56501.43 | Q3: 0.9777 | R3: =ROUNDDOWN(P3*Q3,0) -> 55241
A4: 43922 | B4: 43922 | C4: 43951 | D4: ='BAY 101'!H5 -> 10039590 | E4: ='BAY 102'!H5 -> 10078935 | F4: =(D4+E4)/1000 -> 20118.525 | G4: ='BAY 101'!M5 -> 37545 | H4: ='BAY 102'!M5 -> 32115 | I4: =(G4+H4)/1000 -> 69.66 | J4: =(F4-I4) -> 20048.865 | L4: Total | M4: 01/02/2020 to 31/03/2021 | N4: =SUM(N2:N3) -> 235535.42 | O4: =SUM(O2:O3) -> 1073.76 | P4: =SUM(P2:P3) -> 234461.65 | Q4: 0.9777 | R4: =SUM(R2:R3) -> 229232
A5: 43952 | B5: 43952 | C5: 43982 | D5: ='BAY 101'!H6 -> 10915410 | E5: ='BAY 102'!H6 -> 10990095 | F5: =(D5+E5)/1000 -> 21905.505 | G5: ='BAY 101'!M6 -> 39690 | H5: ='BAY 102'!M6 -> 32295 | I5: =(G5+H5)/1000 -> 71.985 | J5: =(F5-I5) -> 21833.52
A6: 43983 | B6: 43983 | C6: 44012 | D6: ='BAY 101'!H7 -> 8012355 | E6: ='BAY 102'!H7 -> 8213400 | F6: =(D6+E6)/1000 -> 16225.755 | G6: ='BAY 101'!M7 -> 34890 | H6: ='BAY 102'!M7 -> 32505 | I6: =(G6+H6)/1000 -> 67.395 | J6: =(F6-I6) -> 16158.36
A7: 44013 | B7: 44013 | C7: 44043 | D7: ='BAY 101'!H8 -> 7953375 | E7: ='BAY 102'!H8 -> 8124795 | F7: =(D7+E7)/1000 -> 16078.17 | G7: ='BAY 101'!M8 -> 37470 | H7: ='BAY 102'!M8 -> 33375 | I7: =(G7+H7)/1000 -> 70.845 | J7: =(F7-I7) -> 16007.325
A8: 44044 | B8: 44044 | C8: 44074 | D8: ='BAY 101'!H9 -> 6073110 | E8: ='BAY 102'!H9 -> 6121305 | F8: =(D8+E8)/1000 -> 12194.415 | G8: ='BAY 101'!M9 -> 39975 | H8: ='BAY 102'!M9 -> 37560 | I8: =(G8+H8)/1000 -> 77.535 | J8: =(F8-I8) -> 12116.88 | N8: Annual Estimated Emission reduction as per PDD | R8: 164869 | S8: tCO2 | V8: 43862 | W8: 44286
A9: 44075 | B9: 44075 | C9: 44104 | D9: ='BAY 101'!H10 -> 6931185 | E9: ='BAY 102'!H10 -> 6986085 | F9: =(D9+E9)/1000 -> 13917.27 | G9: ='BAY 101'!M10 -> 34950 | H9: ='BAY 102'!M10 -> 36930 | I9: =(G9+H9)/1000 -> 71.88 | J9: =(F9-I9) -> 13845.39 | N9: Number of days in the monitoring period | R9: =W8-V8+1 -> 425 | S9: Days
A10: 44105 | B10: 44105 | C10: 44135 | D10: ='BAY 101'!H11 -> 6372480 | E10: ='BAY 102'!H11 -> 6366255 | F10: =(D10+E10)/1000 -> 12738.735 | G10: ='BAY 101'!M11 -> 33990 | H10: ='BAY 102'!M11 -> 36690 | I10: =(G10+H10)/1000 -> 70.68 | J10: =(F10-I10) -> 12668.055 | N10: Estimated emission reduction for the monitoring period | R10: =R8*R9/365 -> 191970.75 | S10: tCO2
A11: 44136 | B11: 44136 | C11: 44165 | D11: ='BAY 101'!H12 -> 6357240 | E11: ='BAY 102'!H12 -> 6349605 | F11: =(D11+E11)/1000 -> 12706.845 | G11: ='BAY 101'!M12 -> 39615 | H11: ='BAY 102'!M12 -> 39525 | I11: =(G11+H11)/1000 -> 79.14 | J11: =(F11-I11) -> 12627.705 | N11: Percentage change for the monitoring period | R11: =(R4-R10)/R10 -> 0.19409856
A12: 44166 | B12: 44166 | C12: 44196 | D12: ='BAY 101'!H14 -> 6349980 | E12: ='BAY 102'!H14 -> 6348735 | F12: =(D12+E12)/1000 -> 12698.715 | G12: ='BAY 101'!M14 -> 43035 | H12: ='BAY 102'!M14 -> 42165 | I12: =(G12+H12)/1000 -> 85.2 | J12: =(F12-I12) -> 12613.515
A13: 44197 | B13: 44197 | C13: 44227 | D13: ='BAY 101'!H15 -> 8582190 | E13: ='BAY 102'!H15 -> 8738400 | F13: =(D13+E13)/1000 -> 17320.59 | G13: ='BAY 101'!M15 -> 50145 | H13: ='BAY 102'!M15 -> 43425 | I13: =(G13+H13)/1000 -> 93.57 | J13: =(F13-I13) -> 17227.02
A14: 44228 | B14: 44228 | C14: 44255 | D14: ='BAY 101'!H16 -> 9274950 | E14: ='BAY 102'!H16 -> 9434415 | F14: =(D14+E14)/1000 -> 18709.365 | G14: ='BAY 101'!M16 -> 42870 | H14: ='BAY 102'!M16 -> 37260 | I14: =(G14+H14)/1000 -> 80.13 | J14: =(F14-I14) -> 18629.235
A15: 44256 | B15: 44256 | C15: 43921 | D15: ='BAY 101'!H17 -> 10328715 | E15: ='BAY 102'!H17 -> 10400730 | F15: =(D15+E15)/1000 -> 20729.445 | G15: ='BAY 101'!M17 -> 42675 | H15: ='BAY 102'!M17 -> 41595 | I15: =(G15+H15)/1000 -> 84.27 | J15: =(F15-I15) -> 20645.175

Sheet SDG 7
A1: SDG 7 Affordable and Clean Energy :
A2: Parameter | B2: Vintage | C2: Project value | D2: Baseline Value | E2: Net Benefit
A3: Net Electricity supplied to grid (MWh) | B3: 01/02/2020 to 31/12/2020 | C3: ='SDG 13'!P2 -> 177960.22 | D3: 0 | E3: =C3-D3 -> 177960.22
B4: 01/01/20121 to 31/03/2021 | C4: ='SDG 13'!P3 -> 56501.43 | D4: 0 | E4: =C4-D4 -> 56501.43
B5: Total | C5: =SUM(C3:C4) -> 234461.65 | D5: =SUM(D3:D4) -> 0 | E5: =SUM(E3:E4) -> 234461.65

Sheet SDG 8
A1: SDG 8: Decent Work and Economic Growth
A2: Parameter | B2: Vintage | C2: Project value | D2: Baseline Value | E2: Net Benefit | G2: Sl.No | H2: Name of the Training | I2: Date of Training | J2: No of Employees Attended in the Training
A3: Number of training provided to employees & O&M staff | B3: 01/02/2020 to 31/12/2020 | C3: =COUNT(G3:G27) -> 25 | D3: 0 | E3: =C3-D3 -> 25 | G3: 1 | H3: Defensive Drive Trainig | I3: 43959 | J3: 12
B4: 01/01/20121 to 31/03/2021 | C4: =COUNT(G28:G30) -> 3 | D4: 0 | E4: =C4-D4 -> 3 | G4: 2 | H4: Defensive Drive Trainig | I4: 43960 | J4: 11
B5: Total | C5: =SUM(C3:C4) -> 28 | D5: =SUM(D3:D4) -> 0 | E5: =SUM(E3:E4) -> 28 | G5: 3 | H5: Defensive Drive Trainig | I5: 43963 | J5: 11
G6: 4 | H6: Defensive Drive Trainig | I6: 43964 | J6: 23
G7: 5 | H7: Defensive Drive Trainig | I7: 43965 | J7: 9
G8: 6 | H8: Defensive Drive Trainig | I8: 43966 | J8: 11
A9: Parameter | B9: Vintage | C9: Project value | D9: Baseline Value | E9: Net Benefit | G9: 7 | H9: Defensive Drive Trainig | I9: 43970 | J9: 15
A10: Cost Spent for O&M | B10: 01/02/2020 to 31/12/2020 | C10: =I38*2 -> 142 | D10: 0 | E10: =C10-D10 -> 142 | G10: 8 | H10: Work Resumption after Lockdown | I10: 43972 | J10: 33
B11: 01/01/20121 to 31/03/2021 | C11: =J38*12 -> 1439 | D11: 0 | E11: =C11-D11 -> 1439 | G11: 9 | H11: Work Resumption after Lockdown | I11: 43973 | J11: 24
B12: Total | C12: =SUM(C10:C11) -> 1581 | D12: =SUM(D10:D11) -> 0 | E12: =SUM(E10:E11) -> 1581 | G12: 10 | H12: Safety Training | I12: 43994 | J12: 15
G13: 11 | H13: Safety Training | I13: 44002 | J13: 46
G14: 12 | H14: Safety Training | I14: 44004 | J14: 23
G15: 13 | H15: Firstaid & Firefighting | I15: 44026 | J15: 14
A16: Parameter | B16: Vintage | C16: Project value | D16: Baseline Value | E16: Net Benefit | G16: 14 | H16: Covid-19 Awareness Training | I16: 44051 | J16: 38
A17: Number of O&M Staff involved | B17: 01/02/2020 to 31/12/2020 | C17: 93 | D17: 0 | E17: =C17-D17 -> 93 | G17: 15 | H17: Covid-19 Awareness Training | I17: 44058 | J17: 25
B18: 01/01/20121 to 31/03/2021 | C18: 93 | D18: 0 | E18: =C18-D18 -> 93 | G18: 16 | H18: Covid-19 Awareness Training | I18: 44059 | J18: 25
B19: Total | C19: NA | D19: NA | E19: NA | G19: 17 | H19: Awarness of PTW | I19: 44061 | J19: 5
D20: 63 | G20: 18 | H20: Basic Electrical Training | I20: 44062 | J20: 13
G21: 19 | H21: Basic Electrical Safety Training | I21: 44095 | J21: 11
G22: 20 | H22: Hand Tools and Power Tools safety | I22: 44120 | J22: 16
G23: 21 | H23: EHS training | I23: 44138 | J23: 14
G24: 22 | H24: Work Permit System training | I24: 44142 | J24: 10
G25: 23 | H25: Basic Electrical Safety Training | I25: 44175 | J25: 7
G26: 24 | H26: Work at heighjt Safety | I26: 44177 | J26: 8
G27: 25 | H27: Elecrical Safety Training | I27: 44177 | J27: 8
G28: 26 | H28: Defensive Drive Trainig | I28: 44219 | J28: 20
G29: 27 | H29: Raod Safety & Defence drive training | I29: 44232 | J29: 11
G30: 28 | H30: Raod Safety & Defence drive training | I30: 44243 | J30: 13
G34: Details | I34: 2019-20 | J34: 2020-21
G35: Employee Benefit Expenses (Lakh INR) | I35: 279 | J35: 565
G36: Other Expense (Lakh INR) | I36: 573 | J36: 874
G37: Total Cost spent on O&M (Lakh INR) | I37: =SUM(I35:I36) -> 852 | J37: =SUM(J35:J36) -> 1439
G38: O&M Cost/Month (Lakh INR) | I38: =I37/12 -> 71 | J38: =J37/12 -> 119.91667
