Workbook

Sheet SDG13-Emission Reduction
B2: Start Date of Monitoring Period | G2: 43586
B3: End Date of Monitoring Period | G3: 44651
B4: Number of Days for Current Monitoring Period | G4: =G3-G2+1 -> 1066
B5: Estimated amount of annual average GHG emission reductions | G5: 116290
B6: Net Electricity Supplied to Grid during Monitoring Period (MWh) | G6: =K49 -> 641767.4
B7: Grid Emission Factor (tCO2e/MWh) | G7: 0.5612
B8: ER Estimation (PDD) for Current Monitoirng Period based on operational days | G8: =G5/365*G4 -> 339630.52 | H8: =G8/G7 -> 605186.24
B9: Actual ER for Current Monitoring Period (tCO2e) | G9: =R49 -> 360143
B10: Change in Emission Reductions (%) | G10: =(G9-G8)/G8 -> 0.060396455
B13: Month | C13: From | D13: To | E13: Export(MWh) (Supply) (As EPİAŞ) | F13: Import (MWh) (Draw) (As EPİAŞ) | G13: Net Electricity(MWh) (As EPİAŞ) | H13: Export(MWh) (Supply)(As per OSOS records) | I13: Import (MWh) (Draw) (As per OSOS records) | J13: Net electricity delivered to the grid (As per OSOS records) | K13: Minimum of Net electricity supplied by the project activity to grid as per EPİAŞ (MWh) and OSOS Records | L13: Vintage Break-up (MWh) | M13: Emission factor | N13: Baseline Emissions (tCO2e) | O13: Project Emissions (tCO2) | P13: Leakage Emissions (tCO2) | Q13: Emission Reductions (tCO2) | R13: Vintage Breakup | S13: TEIAS V/S OSOS RECORD
B14: 43586 | C14: 01.05.2019 | D14: 31.05.2019 | E14: 14224.468 | F14: 40.898 | G14: =E14-F14 -> 14183.57 | H14: 14224.45 | I14: 40.89 | J14: =H14-I14 -> 14183.56 | K14: =MIN(G14,J14) -> 14183.56 | L14: =SUM(K14:K21) -> 129225.39 | M14: =$G$7 -> 0.5612 | N14: =ROUNDDOWN(K14*M14,0) -> 7959 | O14: 0 | P14: 0 | Q14: =N14-O14-P14 -> 7959 | R14: =ROUNDDOWN(SUM(Q14:Q21),0) -> 72517 | S14: =G14-J14 -> 0.01
B15: 43617 | C15: 01.06.2019 | D15: 30.06.2019 | E15: 17694.78 | F15: 27.0393 | G15: =E15-F15 -> 17667.741 | H15: 17694.79 | I15: 27.04 | J15: =H15-I15 -> 17667.75 | K15: =MIN(G15,J15) -> 17667.741 | M15: =$G$7 -> 0.5612 | N15: =ROUNDDOWN(K15*M15,0) -> 9915 | O15: 0 | P15: 0 | Q15: =N15-O15-P15 -> 9915 | S15: =G15-J15 -> -0.0093
B16: 43647 | C16: 43647 | D16: 31.07.2019 | E16: 8888.624 | F16: 74.319 | G16: =E16-F16 -> 8814.305 | H16: 8888.63 | I16: 74.31 | J16: =H16-I16 -> 8814.32 | K16: =MIN(G16,J16) -> 8814.305 | M16: =$G$7 -> 0.5612 | N16: =ROUNDDOWN(K16*M16,0) -> 4946 | O16: 0 | P16: 0 | Q16: =N16-O16-P16 -> 4946 | S16: =G16-J16 -> -0.015
B17: 43678 | C17: 01.08.2019 | D17: 31.08.2019 | E17: 19158.218 | F17: 33.958 | G17: =E17-F17 -> 19124.26 | H17: 19158.2 | I17: 33.96 | J17: =H17-I17 -> 19124.24 | K17: =MIN(G17,J17) -> 19124.24 | M17: =$G$7 -> 0.5612 | N17: =ROUNDDOWN(K17*M17,0) -> 10732 | O17: 0 | P17: 0 | Q17: =N17-O17-P17 -> 10732 | S17: =G17-J17 -> 0.02
B18: 43709 | C18: 01.09.2019 | D18: 30.09.2019 | E18: 17894.778 | F18: 33.167 | G18: =E18-F18 -> 17861.611 | H18: 17894.79 | I18: 33.18 | J18: =H18-I18 -> 17861.61 | K18: =MIN(G18,J18) -> 17861.61 | M18: =$G$7 -> 0.5612 | N18: =ROUNDDOWN(K18*M18,0) -> 10023 | O18: 0 | P18: 0 | Q18: =N18-O18-P18 -> 10023 | S18: =G18-J18 -> 0.001
B19: 43739 | C19: 01.10.2019 | D19: 31.10.2019 | E19: 8458.509 | F19: 111.896 | G19: =E19-F19 -> 8346.613 | H19: 8458.5 | I19: 111.89 | J19: =H19-I19 -> 8346.61 | K19: =MIN(G19,J19) -> 8346.61 | M19: =$G$7 -> 0.5612 | N19: =ROUNDDOWN(K19*M19,0) -> 4684 | O19: 0 | P19: 0 | Q19: =N19-O19-P19 -> 4684 | S19: =G19-J19 -> 0.003
B20: 43770 | C20: 01.11.2019 | D20: 30.11.2019 | E20: 21405.115 | F20: 24.74 | G20: =E20-F20 -> 21380.375 | H20: 21405.11 | I20: 24.74 | J20: =H20-I20 -> 21380.37 | K20: =MIN(G20,J20) -> 21380.37 | M20: =$G$7 -> 0.5612 | N20: =ROUNDDOWN(K20*M20,0) -> 11998 | O20: 0 | P20: 0 | Q20: =N20-O20-P20 -> 11998 | S20: =G20-J20 -> 0.005
B21: 43800 | C21: 01.12.2019 | D21: 31.12.2019 | E21: 21867.118 | F21: 20.168 | G21: =E21-F21 -> 21846.95 | H21: 21867.14 | I21: 20.17 | J21: =H21-I21 -> 21846.97 | K21: =MIN(G21,J21) -> 21846.95 | M21: =$G$7 -> 0.5612 | N21: =ROUNDDOWN(K21*M21,0) -> 12260 | O21: 0 | P21: 0 | Q21: =N21-O21-P21 -> 12260 | S21: =G21-J21 -> -0.02
B22: 43831 | C22: 01.01.2020 | D22: 31.01.2020 | E22: 21453.475 | F22: 46.613 | G22: =E22-F22 -> 21406.862 | H22: 21453.46 | I22: 46.61 | J22: =H22-I22 -> 21406.85 | K22: =MIN(G22,J22) -> 21406.85 | L22: =SUM(K22:K33) -> 221740.63 | M22: =$G$7 -> 0.5612 | N22: =ROUNDDOWN(K22*M22,0) -> 12013 | O22: 0 | P22: 0 | Q22: =N22-O22-P22 -> 12013 | R22: =ROUNDDOWN(SUM(Q22:Q33),0) -> 124435 | S22: =G22-J22 -> 0.012
B23: 43862 | C23: 01.02.2020 | D23: 30.02.2020 | E23: 23279.039 | F23: 33.658 | G23: =E23-F23 -> 23245.381 | H23: 23279.05 | I23: 33.66 | J23: =H23-I23 -> 23245.39 | K23: =MIN(G23,J23) -> 23245.381 | M23: =$G$7 -> 0.5612 | N23: =ROUNDDOWN(K23*M23,0) -> 13045 | O23: 0 | P23: 0 | Q23: =N23-O23-P23 -> 13045 | S23: =G23-J23 -> -0.009
B24: 43891 | C24: 01.03.2020 | D24: 31.03.2020 | E24: 25866.666 | F24: 29.092 | G24: =E24-F24 -> 25837.574 | H24: 25866.65 | I24: 29.08 | J24: =H24-I24 -> 25837.57 | K24: =MIN(G24,J24) -> 25837.57 | M24: =$G$7 -> 0.5612 | N24: =ROUNDDOWN(K24*M24,0) -> 14500 | O24: 0 | P24: 0 | Q24: =N24-O24-P24 -> 14500 | S24: =G24-J24 -> 0.0039999999
B25: 43922 | C25: 01.04.2020 | D25: 30.04.2020 | E25: 20114.448 | F25: 28.576 | G25: =E25-F25 -> 20085.872 | H25: 20114.47 | I25: 28.59 | J25: =H25-I25 -> 20085.88 | K25: =MIN(G25,J25) -> 20085.872 | M25: =$G$7 -> 0.5612 | N25: =ROUNDDOWN(K25*M25,0) -> 11272 | O25: 0 | P25: 0 | Q25: =N25-O25-P25 -> 11272 | S25: =G25-J25 -> -0.008
B26: 43952 | C26: 01.05.2020 | D26: 31.05.2020 | E26: 16979.33 | F26: 42.131 | G26: =E26-F26 -> 16937.199 | H26: 16979.32 | I26: 42.12 | J26: =H26-I26 -> 16937.2 | K26: =MIN(G26,J26) -> 16937.199 | M26: =$G$7 -> 0.5612 | N26: =ROUNDDOWN(K26*M26,0) -> 9505 | O26: 0 | P26: 0 | Q26: =N26-O26-P26 -> 9505 | S26: =G26-J26 -> -0.001
B27: 43983 | C27: 01.06.2020 | D27: 30.06.2020 | E27: 9940.92 | F27: 82.26 | G27: =E27-F27 -> 9858.66 | H27: 9940.91 | I27: 82.27 | J27: =H27-I27 -> 9858.64 | K27: =MIN(G27,J27) -> 9858.64 | M27: =$G$7 -> 0.5612 | N27: =ROUNDDOWN(K27*M27,0) -> 5532 | O27: 0 | P27: 0 | Q27: =N27-O27-P27 -> 5532 | S27: =G27-J27 -> 0.02
B28: 44013 | C28: 01.07.2020 | D28: 31.07.2020 | E28: 14699.626 | F28: 28.241 | G28: =E28-F28 -> 14671.385 | H28: 14699.63 | I28: 28.24 | J28: =H28-I28 -> 14671.39 | K28: =MIN(G28,J28) -> 14671.385 | M28: =$G$7 -> 0.5612 | N28: =ROUNDDOWN(K28*M28,0) -> 8233 | O28: 0 | P28: 0 | Q28: =N28-O28-P28 -> 8233 | S28: =G28-J28 -> -0.005
B29: 44044 | C29: 01.08.2020 | D29: 31.08.2020 | E29: 12953.568 | F29: 51.712 | G29: =E29-F29 -> 12901.856 | H29: 12953.57 | I29: 51.71 | J29: =H29-I29 -> 12901.86 | K29: =MIN(G29,J29) -> 12901.856 | M29: =$G$7 -> 0.5612 | N29: =ROUNDDOWN(K29*M29,0) -> 7240 | O29: 0 | P29: 0 | Q29: =N29-O29-P29 -> 7240 | S29: =G29-J29 -> -0.004
B30: 44075 | C30: 01.09.2020 | D30: 30.09.2020 | E30: 20798.612 | F30: 28.877 | G30: =E30-F30 -> 20769.735 | H30: 20798.61 | I30: 28.88 | J30: =H30-I30 -> 20769.73 | K30: =MIN(G30,J30) -> 20769.73 | M30: =$G$7 -> 0.5612 | N30: =ROUNDDOWN(K30*M30,0) -> 11655 | O30: 0 | P30: 0 | Q30: =N30-O30-P30 -> 11655 | S30: =G30-J30 -> 0.005
B31: 44105 | C31: 01.10.2020 | D31: 31.10.2020 | E31: 15285.659 | F31: 48.821 | G31: =E31-F31 -> 15236.838 | H31: 15285.66 | I31: 48.83 | J31: =H31-I31 -> 15236.83 | K31: =MIN(G31,J31) -> 15236.83 | M31: =$G$7 -> 0.5612 | N31: =ROUNDDOWN(K31*M31,0) -> 8550 | O31: 0 | P31: 0 | Q31: =N31-O31-P31 -> 8550 | S31: =G31-J31 -> 0.008
B32: 44136 | C32: 01.11.2020 | D32: 30.11.2020 | E32: 19138.795 | F32: 48.416 | G32: =E32-F32 -> 19090.379 | H32: 19138.79 | I32: 48.41 | J32: =H32-I32 -> 19090.38 | K32: =MIN(G32,J32) -> 19090.379 | M32: =$G$7 -> 0.5612 | N32: =ROUNDDOWN(K32*M32,0) -> 10713 | O32: 0 | P32: 0 | Q32: =N32-O32-P32 -> 10713 | S32: =G32-J32 -> -0.00099999995
B33: 44166 | C33: 01.12.2020 | D33: 31.12.2020 | E33: 21747.879 | F33: 48.943 | G33: =E33-F33 -> 21698.936 | H33: 21747.88 | I33: 48.94 | J33: =H33-I33 -> 21698.94 | K33: =MIN(G33,J33) -> 21698.936 | M33: =$G$7 -> 0.5612 | N33: =ROUNDDOWN(K33*M33,0) -> 12177 | O33: 0 | P33: 0 | Q33: =N33-O33-P33 -> 12177 | S33: =G33-J33 -> -0.004
B34: 44197 | C34: 01.01.2021 | D34: 31.01.2021 | E34: 26558.243 | F34: 16.005 | G34: =E34-F34 -> 26542.238 | H34: 26558.25 | I34: 16 | J34: =H34-I34 -> 26542.25 | K34: =MIN(G34,J34) -> 26542.238 | L34: =SUM(K34:K45) -> 215498.16 | M34: =$G$7 -> 0.5612 | N34: =ROUNDDOWN(K34*M34,0) -> 14895 | O34: 0 | P34: 0 | Q34: =N34-O34-P34 -> 14895 | R34: =ROUNDDOWN(SUM(Q34:Q45),0) -> 120932 | S34: =G34-J34 -> -0.012
B35: 44228 | C35: 01.02.2021 | D35: 30.02.2021 | E35: 19151.238 | F35: 46.093 | G35: =E35-F35 -> 19105.145 | H35: 19151.26 | I35: 46.1 | J35: =H35-I35 -> 19105.16 | K35: =MIN(G35,J35) -> 19105.145 | M35: =$G$7 -> 0.5612 | N35: =ROUNDDOWN(K35*M35,0) -> 10721 | O35: 0 | P35: 0 | Q35: =N35-O35-P35 -> 10721 | S35: =G35-J35 -> -0.015
B36: 44256 | C36: 01.03.2021 | D36: 31.03.2021 | E36: 18564.067 | F36: 40.983 | G36: =E36-F36 -> 18523.084 | H36: 18564.05 | I36: 40.97 | J36: =H36-I36 -> 18523.08 | K36: =MIN(G36,J36) -> 18523.08 | M36: =$G$7 -> 0.5612 | N36: =ROUNDDOWN(K36*M36,0) -> 10395 | O36: 0 | P36: 0 | Q36: =N36-O36-P36 -> 10395 | S36: =G36-J36 -> 0.0039999999
B37: 44287 | C37: 01.04.2021 | D37: 30.04.2021 | E37: 12528.216 | F37: 64.26 | G37: =E37-F37 -> 12463.956 | H37: 12528.21 | I37: 64.27 | J37: =H37-I37 -> 12463.94 | K37: =MIN(G37,J37) -> 12463.94 | M37: =$G$7 -> 0.5612 | N37: =ROUNDDOWN(K37*M37,0) -> 6994 | O37: 0 | P37: 0 | Q37: =N37-O37-P37 -> 6994 | S37: =G37-J37 -> 0.016
B38: 44317 | C38: 01.05.2021 | D38: 31.05.2021 | E38: 14888.624 | F38: 48.198 | G38: =E38-F38 -> 14840.426 | H38: 14888.63 | I38: 48.2 | J38: =H38-I38 -> 14840.43 | K38: =MIN(G38,J38) -> 14840.426 | M38: =$G$7 -> 0.5612 | N38: =ROUNDDOWN(K38*M38,0) -> 8328 | O38: 0 | P38: 0 | Q38: =N38-O38-P38 -> 8328 | S38: =G38-J38 -> -0.004
B39: 44348 | C39: 01.06.2021 | D39: 30.06.2021 | E39: 10469.022 | F39: 76.521 | G39: =E39-F39 -> 10392.501 | H39: 10469.51 | I39: 76.52 | J39: =H39-I39 -> 10392.99 | K39: =MIN(G39,J39) -> 10392.501 | M39: =$G$7 -> 0.5612 | N39: =ROUNDDOWN(K39*M39,0) -> 5832 | O39: 0 | P39: 0 | Q39: =N39-O39-P39 -> 5832 | S39: =G39-J39 -> -0.489
B40: 44378 | C40: 01.07.2021 | D40: 31.07.2021 | E40: 16519.52 | F40: 52.494 | G40: =E40-F40 -> 16467.026 | H40: 16519.54 | I40: 52.5 | J40: =H40-I40 -> 16467.04 | K40: =MIN(G40,J40) -> 16467.026 | M40: =$G$7 -> 0.5612 | N40: =ROUNDDOWN(K40*M40,0) -> 9241 | O40: 0 | P40: 0 | Q40: =N40-O40-P40 -> 9241 | S40: =G40-J40 -> -0.014
B41: 44409 | C41: 01.08.2021 | D41: 31.08.2021 | E41: 10783.154 | F41: 89.517 | G41: =E41-F41 -> 10693.637 | H41: 10783.15 | I41: 89.51 | J41: =H41-I41 -> 10693.64 | K41: =MIN(G41,J41) -> 10693.637 | M41: =$G$7 -> 0.5612 | N41: =ROUNDDOWN(K41*M41,0) -> 6001 | O41: 0 | P41: 0 | Q41: =N41-O41-P41 -> 6001 | S41: =G41-J41 -> -0.003
B42: 44440 | C42: 01.09.2021 | D42: 30.09.2021 | E42: 17301.284 | F42: 46.763 | G42: =E42-F42 -> 17254.521 | H42: 17301.27 | I42: 46.77 | J42: =H42-I42 -> 17254.5 | K42: =MIN(G42,J42) -> 17254.5 | M42: =$G$7 -> 0.5612 | N42: =ROUNDDOWN(K42*M42,0) -> 9683 | O42: 0 | P42: 0 | Q42: =N42-O42-P42 -> 9683 | S42: =G42-J42 -> 0.021
B43: 44470 | C43: 44470 | D43: 44500 | E43: 20914.67 | F43: 37.537 | G43: =E43-F43 -> 20877.133 | H43: 20914.68 | I43: 37.53 | J43: =H43-I43 -> 20877.15 | K43: =MIN(G43,J43) -> 20877.133 | M43: =$G$7 -> 0.5612 | N43: =ROUNDDOWN(K43*M43,0) -> 11716 | O43: 0 | P43: 0 | Q43: =N43-O43-P43 -> 11716 | S43: =G43-J43 -> -0.017
B44: 44501 | C44: 44501 | D44: 44530 | E44: 18743.949 | F44: 69.972 | G44: =E44-F44 -> 18673.977 | H44: 18743.84 | I44: 69.97 | J44: =H44-I44 -> 18673.87 | K44: =MIN(G44,J44) -> 18673.87 | M44: =$G$7 -> 0.5612 | N44: =ROUNDDOWN(K44*M44,0) -> 10479 | O44: 0 | P44: 0 | Q44: =N44-O44-P44 -> 10479 | S44: =G44-J44 -> 0.107
B45: 44531 | C45: 44531 | D45: 44561 | E45: 29685.942 | F45: 21.283 | G45: =E45-F45 -> 29664.659 | H45: 29686.06 | I45: 21.28 | J45: =H45-I45 -> 29664.78 | K45: =MIN(G45,J45) -> 29664.659 | M45: =$G$7 -> 0.5612 | N45: =ROUNDDOWN(K45*M45,0) -> 16647 | O45: 0 | P45: 0 | Q45: =N45-O45-P45 -> 16647 | S45: =G45-J45 -> -0.121
B46: 44562 | C46: 44562 | D46: 44592 | E46: 25860.654 | F46: 27.631 | G46: =E46-F46 -> 25833.023 | H46: 25860.63 | I46: 27.63 | J46: =H46-I46 -> 25833 | K46: =MIN(G46,J46) -> 25833 | L46: =SUM(K46:K48) -> 75303.229 | M46: =$G$7 -> 0.5612 | N46: =ROUNDDOWN(K46*M46,0) -> 14497 | O46: 0 | P46: 0 | Q46: =N46-O46-P46 -> 14497 | R46: =ROUNDDOWN(SUM(Q46:Q48),0) -> 42259 | S46: =G46-J46 -> 0.023 | T46: 42259
B47: 44593 | C47: 44593 | D47: 44620 | E47: 22177.205 | F47: 30.943 | G47: =E47-F47 -> 22146.262 | H47: 22177.2 | I47: 30.95 | J47: =H47-I47 -> 22146.25 | K47: =MIN(G47,J47) -> 22146.25 | M47: =$G$7 -> 0.5612 | N47: =ROUNDDOWN(K47*M47,0) -> 12428 | O47: 0 | P47: 0 | Q47: =N47-O47-P47 -> 12428 | S47: =G47-J47 -> 0.012
B48: 44621 | C48: 44621 | D48: 44651 | E48: 27350.952 | F48: 26.973 | G48: =E48-F48 -> 27323.979 | H48: 27350.95 | I48: 26.97 | J48: =H48-I48 -> 27323.98 | K48: =MIN(G48,J48) -> 27323.979 | M48: =$G$7 -> 0.5612 | N48: =ROUNDDOWN(K48*M48,0) -> 15334 | O48: 0 | P48: 0 | Q48: =N48-O48-P48 -> 15334 | S48: =G48-J48 -> -0.0010000001
B49: Total | C49: - | D49: - | E49: =SUM(E14:E48) -> 643346.37 | F49: =SUM(F14:F48) -> 1578.6983 | G49: =SUM(G14:G48) -> 641767.67 | H49: =SUM(H14:H48) -> 643346.84 | I49: =SUM(I14:I48) -> 1578.69 | J49: =SUM(J14:J48) -> 641768.15 | K49: =SUM(K14:K48) -> 641767.4 | L49: =SUM(L14:L48) -> 641767.4 | N49: =SUM(N14:N48) -> 360143 | O49: =SUM(O14:O48) -> 0 | P49: =SUM(P14:P48) -> 0 | Q49: =SUM(Q14:Q48) -> 360143 | R49: =SUM(R14:R48) -> 360143 | S49: =G49-J49 -> -0.4813
B50: Average | C50: - | D50: - | E50: =E49/35*12 -> 220575.9 | F50: =F49/35*12 -> 541.26799 | G50: =G49/35*12 -> 220034.63 | J50: =AVERAGE(J14:J48) -> 18336.233 | K50: - | L50: - | M50: - | N50: =AVERAGE(N14:N48) -> 10289.8 | R50: - | S50: =G50-J50 -> 201698.4

Sheet SDG 6-Wastewater
B2: Total Electricity Generation In Turkey In 2020 - From Thermal Power Plants (GWh/year) | C2: 182802.6 | D2: https://webapi.teias.gov.tr/file/8e92ef4c-48c6-410e-8852-dd4865cc816c?download
B3: Discharged Waste Water Amount In Turkey in 2020 - From Thermal Power Plants (m3/year) | C3: =7987*10^6 -> 7987000000 | D3: https://data.tuik.gov.tr/Bulten/Index?p=Su-ve-Atiksu-Istatistikleri-2020-37197
B4: Wastewater Discharged For 1 GWh of Produced Electricity (m3/GWh) | C4: =C3/C2 -> 43691.939 | D4: Calculated
B5: Electricity Generation of Süloğlu WPP (GWh) | C5: ='SDG13-Emission Reduction'!L49/1000 -> 641.7674 | D5: Estimated
B6: Avoidance of Wastewater for Süloğlu WPP (m3) | C6: =C4*C5 -> 28040062 | D6: Calculated
B7: Avoidance of Wastewater for Süloğlu WPP (million m3) | C7: =C6/10^6 -> 28.040062 | D7: Calculated
C9: Electricity Generation (GWh) | D9: Avoided Wastewater Discharge (m3) | E9: Avoided Wastewater Discharge (million m3)
B10: 01/05/2019-31/12/2019 | C10: =SUM('SDG13-Emission Reduction'!K14:K21)/1000 -> 129.22539 | D10: =C10*$C$4 -> 5646107.6 | E10: =D10/10^6 -> 5.6461076
B11: 01/01/2020-31/12/2020 | C11: =SUM('SDG13-Emission Reduction'!K22:K33)/1000 -> 221.74063 | D11: =C11*$C$4 -> 9688277.9 | E11: =D11/10^6 -> 9.6882779
B12: 01/01/2021-31/12/2021 | C12: =SUM('SDG13-Emission Reduction'!K34:K45)/1000 -> 215.49816 | D12: =C12*$C$4 -> 9415532.2 | E12: =D12/10^6 -> 9.4155322
B13: 01/01/2022-31/03/2022 | C13: =SUM('SDG13-Emission Reduction'!K46:K48)/1000 -> 75.303229 | D13: =C13*$C$4 -> 3290144.1 | E13: =D13/10^6 -> 3.2901441
D14: =SUM(D10:D13) -> 28040062 | E14: =SUM(E10:E13) -> 28.040062

Sheet SDG 7-Electricity Gen
B2: Net Electricity Supplied to Grid during Monitoring Period (MWh) | G2: =K41 -> 641767.4
B5: Month | C5: From | D5: To | E5: Export(MWh) (Supply) (As EPİAŞ) | F5: Import (MWh) (Draw) (As EPİAŞ) | G5: Net Electricity(MWh) (As EPİAŞ) | H5: Export(MWh) (Supply)(As per OSOS records) | I5: Import (MWh) (Draw) (As per OSOS records) | J5: Net electricity delivered to the grid (As per OSOS records) | K5: Minimum ff Net electricity supplied by the project activity to grid as per EPİAŞ (MWh) and OSOS Records
B6: 43586 | C6: 01.05.2019 | D6: 31.05.2019 | E6: 14224.468 | F6: 40.898 | G6: =E6-F6 -> 14183.57 | H6: 14224.45 | I6: 40.89 | J6: =H6-I6 -> 14183.56 | K6: =MIN(G6,J6) -> 14183.56 | M6: The estimated electricity generation as per Transition Annex | R6: 207200 | S6: MWh/year
B7: 43617 | C7: 01.06.2019 | D7: 30.06.2019 | E7: 17694.78 | F7: 27.0393 | G7: =E7-F7 -> 17667.741 | H7: 17694.79 | I7: 27.04 | J7: =H7-I7 -> 17667.75 | K7: =MIN(G7,J7) -> 17667.741 | M7: Amount saved due to avoidance of natural gas import | R7: 8260.499 | S7: EUR/year
B8: 43647 | C8: 43647 | D8: 31.07.2019 | E8: 8888.624 | F8: 74.319 | G8: =E8-F8 -> 8814.305 | H8: 8888.63 | I8: 74.31 | J8: =H8-I8 -> 8814.32 | K8: =MIN(G8,J8) -> 8814.305
B9: 43678 | C9: 01.08.2019 | D9: 31.08.2019 | E9: 19158.218 | F9: 33.958 | G9: =E9-F9 -> 19124.26 | H9: 19158.2 | I9: 33.96 | J9: =H9-I9 -> 19124.24 | K9: =MIN(G9,J9) -> 19124.24 | M9: Amount saved due to electricity generation of 1 MWh | R9: =R7/R6 -> 0.039867273 | S9: EUR
B10: 43709 | C10: 01.09.2019 | D10: 30.09.2019 | E10: 17894.778 | F10: 33.167 | G10: =E10-F10 -> 17861.611 | H10: 17894.79 | I10: 33.18 | J10: =H10-I10 -> 17861.61 | K10: =MIN(G10,J10) -> 17861.61 | M10: Amount saved due to electricity generation by project activity | R10: =R9*'SDG13-Emission Reduction'!G9 -> 14357.919 | S10: EUR
B11: 43739 | C11: 01.10.2019 | D11: 31.10.2019 | E11: 8458.509 | F11: 111.896 | G11: =E11-F11 -> 8346.613 | H11: 8458.5 | I11: 111.89 | J11: =H11-I11 -> 8346.61 | K11: =MIN(G11,J11) -> 8346.61
B12: 43770 | C12: 01.11.2019 | D12: 30.11.2019 | E12: 21405.115 | F12: 24.74 | G12: =E12-F12 -> 21380.375 | H12: 21405.11 | I12: 24.74 | J12: =H12-I12 -> 21380.37 | K12: =MIN(G12,J12) -> 21380.37
B13: 43800 | C13: 01.12.2019 | D13: 31.12.2019 | E13: 21867.118 | F13: 20.168 | G13: =E13-F13 -> 21846.95 | H13: 21867.14 | I13: 20.17 | J13: =H13-I13 -> 21846.97 | K13: =MIN(G13,J13) -> 21846.95
B14: 43831 | C14: 01.01.2020 | D14: 31.01.2020 | E14: 21453.475 | F14: 46.613 | G14: =E14-F14 -> 21406.862 | H14: 21453.46 | I14: 46.61 | J14: =H14-I14 -> 21406.85 | K14: =MIN(G14,J14) -> 21406.85
B15: 43862 | C15: 01.02.2020 | D15: 30.02.2020 | E15: 23279.039 | F15: 33.658 | G15: =E15-F15 -> 23245.381 | H15: 23279.05 | I15: 33.66 | J15: =H15-I15 -> 23245.39 | K15: =MIN(G15,J15) -> 23245.381
B16: 43891 | C16: 01.03.2020 | D16: 31.03.2020 | E16: 25866.666 | F16: 29.092 | G16: =E16-F16 -> 25837.574 | H16: 25866.65 | I16: 29.08 | J16: =H16-I16 -> 25837.57 | K16: =MIN(G16,J16) -> 25837.57
B17: 43922 | C17: 01.04.2020 | D17: 30.04.2020 | E17: 20114.448 | F17: 28.576 | G17: =E17-F17 -> 20085.872 | H17: 20114.47 | I17: 28.59 | J17: =H17-I17 -> 20085.88 | K17: =MIN(G17,J17) -> 20085.872
B18: 43952 | C18: 01.05.2020 | D18: 31.05.2020 | E18: 16979.33 | F18: 42.131 | G18: =E18-F18 -> 16937.199 | H18: 16979.32 | I18: 42.12 | J18: =H18-I18 -> 16937.2 | K18: =MIN(G18,J18) -> 16937.199
B19: 43983 | C19: 01.06.2020 | D19: 30.06.2020 | E19: 9940.92 | F19: 82.26 | G19: =E19-F19 -> 9858.66 | H19: 9940.91 | I19: 82.27 | J19: =H19-I19 -> 9858.64 | K19: =MIN(G19,J19) -> 9858.64
B20: 44013 | C20: 01.07.2020 | D20: 31.07.2020 | E20: 14699.626 | F20: 28.241 | G20: =E20-F20 -> 14671.385 | H20: 14699.63 | I20: 28.24 | J20: =H20-I20 -> 14671.39 | K20: =MIN(G20,J20) -> 14671.385
B21: 44044 | C21: 01.08.2020 | D21: 31.08.2020 | E21: 12953.568 | F21: 51.712 | G21: =E21-F21 -> 12901.856 | H21: 12953.57 | I21: 51.71 | J21: =H21-I21 -> 12901.86 | K21: =MIN(G21,J21) -> 12901.856
B22: 44075 | C22: 01.09.2020 | D22: 30.09.2020 | E22: 20798.612 | F22: 28.877 | G22: =E22-F22 -> 20769.735 | H22: 20798.61 | I22: 28.88 | J22: =H22-I22 -> 20769.73 | K22: =MIN(G22,J22) -> 20769.73
... B34: 44440 | C34: 01.09.2021 | D34: 30.09.2021 | E34: 17301.284 | F34: 46.763 | G34: =E34-F34 -> 17254.521 | H34: 17301.27 | I34: 46.77 | J34: =H34-I34 -> 17254.5 | K34: =MIN(G34,J34) -> 17254.5
B35: 44470 | C35: 44470 | D35: 44500 | E35: 20914.67 | F35: 37.537 | G35: =E35-F35 -> 20877.133 | H35: 20914.68 | I35: 37.53 | J35: =H35-I35 -> 20877.15 | K35: =MIN(G35,J35) -> 20877.133
B36: 44501 | C36: 44501 | D36: 44530 | E36: 18743.949 | F36: 69.972 | G36: =E36-F36 -> 18673.977 | H36: 18743.84 | I36: 69.97 | J36: =H36-I36 -> 18673.87 | K36: =MIN(G36,J36) -> 18673.87
B37: 44531 | C37: 44531 | D37: 44561 | E37: 29685.942 | F37: 21.283 | G37: =E37-F37 -> 29664.659 | H37: 29686.06 | I37: 21.28 | J37: =H37-I37 -> 29664.78 | K37: =MIN(G37,J37) -> 29664.659
B38: 44562 | C38: 44562 | D38: 44592 | E38: 25860.654 | F38: 27.631 | G38: =E38-F38 -> 25833.023 | H38: 25860.63 | I38: 27.63 | J38: =H38-I38 -> 25833 | K38: =MIN(G38,J38) -> 25833
B39: 44593 | C39: 44593 | D39: 44620 | E39: 22177.205 | F39: 30.943 | G39: =E39-F39 -> 22146.262 | H39: 22177.2 | I39: 30.95 | J39: =H39-I39 -> 22146.25 | K39: =MIN(G39,J39) -> 22146.25
B40: 44621 | C40: 44621 | D40: 44651 | E40: 27350.952 | F40: 26.973 | G40: =E40-F40 -> 27323.979 | H40: 27350.95 | I40: 26.97 | J40: =H40-I40 -> 27323.98 | K40: =MIN(G40,J40) -> 27323.979
B41: Total | C41: - | D41: - | E41: =SUM(E6:E40) -> 643346.37 | F41: =SUM(F6:F40) -> 1578.6983 | G41: =SUM(G6:G40) -> 641767.67 | H41: =SUM(H6:H40) -> 643346.84 | I41: =SUM(I6:I40) -> 1578.69 | J41: =SUM(J6:J40) -> 641768.15 | K41: =SUM(K6:K40) -> 641767.4
B42: Average | C42: - | D42: - | E42: =E41/35*12 -> 220575.9 | F42: =F41/35*12 -> 541.26799 | G42: =G41/35*12 -> 220034.63 | J42: =AVERAGE(J6:J40) -> 18336.233 | K42: -

Sheet SDG 13- Air quality 
B2: NMVOC
B3: Period | C3: Electricity Generation (GWh) | D3: Emission Factor (tons/GWh) | E3: Emission (tons)
B4: 01/05/2019-31/12/2019 | C4: 129.22539 | D4: 0.034 | E4: =C4*D4 -> 4.3936631
B5: 01/01/2020-31/12/2016 | C5: 221.74063 | D5: 0.034 | E5: =C5*D5 -> 7.5391814
B6: 01/01/2020-30/04/2021 | C6: 215.49816 | D6: 0.034 | E6: =C6*D6 -> 7.3269373
B7: 01/01/2022-31/03/2022 | C7: 75.303229 | D7: 0.034 | E7: =C7*D7 -> 2.5603098
B10: CO
B11: Period | C11: Electricity Generation (GWh) | D11: Emission Factor (tons/GWh) | E11: Emission (tons)
B12: 01/05/2019-31/12/2019 | C12: 129.22539 | D12: 0.16 | E12: =C12*D12 -> 20.676062
B13: 01/01/2020-31/12/2016 | C13: 221.74063 | D13: 0.16 | E13: =C13*D13 -> 35.4785
B14: 01/01/2020-30/04/2021 | C14: 215.49816 | D14: 0.16 | E14: =C14*D14 -> 34.479705
B15: 01/01/2022-31/03/2022 | C15: 75.303229 | D15: 0.16 | E15: =C15*D15 -> 12.048517

Sheet SDG 8 - Employments
A2: Average Yearly Job Creation within monitoring period | E2: =ROUNDDOWN(J26,0) -> 16
A4: Sr No | B4: Employer | C4: Name of the Employee | D4: Was working at the project site in (According to social service / employee lists): | E4: Employment Start Date at Süloğlu Enerji (According to social security insurance records) | F4: Profession Name | G4: Source of Information | J4: 2019 | K4: 2020 | L4: 2021 | M4: 2022
A5: 1 | B5: Steag Rüzgar Süloğlu Enerji Üretim ve Ticaret Anonim Şirketi | C5: Burak Yılmaz | D5: 43709 | E5: 44440 | F5: Shift Manager | G5: Social service / employee lists and social security insurance records. | I5: Does this employee actively work for the year? | J5: + | K5: + | L5: + | M5: +
A6: 2 | B6: Steag Rüzgar Süloğlu Enerji Üretim ve Ticaret Anonim Şirketi | C6: Cem Çalışkan | D6: 43709 | E6: 44440 | F6: Shift Manager | G6: Social service / employee lists and social security insurance records. | J6: + | K6: + | L6: + | M6: +
A7: 3 | B7: Steag Rüzgar Süloğlu Enerji Üretim ve Ticaret Anonim Şirketi | C7: Gazi Erdem | D7: 43709 | E7: 44440 | F7: Shift Manager | G7: Social service / employee lists and social security insurance records. | J7: + | K7: + | L7: + | M7: +
A8: 4 | B8: Steag Rüzgar Süloğlu Enerji Üretim ve Ticaret Anonim Şirketi | C8: Hakan Akartepe | E8: 44440 | F8: Accounting Assistant Manager | G8: Social security insurance records. | J8: - | K8: - | L8: + | M8: +
A9: 5 | B9: Steag Rüzgar Süloğlu Enerji Üretim ve Ticaret Anonim Şirketi | C9: Hakan Ekinci | D9: 43709 | E9: 44440 | F9: Shift Manager | G9: Social service / employee lists and social security insurance records. | J9: + | K9: + | L9: + | M9: +
A10: 6 | B10: Steag Rüzgar Süloğlu Enerji Üretim ve Ticaret Anonim Şirketi | C10: İhsan Şahin | D10: 43709 | E10: 44440 | F10: Plant Manager | G10: Social service / employee lists and social security insurance records. | J10: + | K10: + | L10: + | M10: +
A11: 7 | B11: Steag Rüzgar Süloğlu Enerji Üretim ve Ticaret Anonim Şirketi | C11: Mehmet Demil | D11: 43709 | E11: 44440 | F11: Shift Manager | G11: Social service / employee lists and social security insurance records. | J11: + | K11: + | L11: + | M11: +
A12: 8 | B12: Steag Rüzgar Süloğlu Enerji Üretim ve Ticaret Anonim Şirketi | C12: Onur Cintosun | E12: 44441 | F12: Shift Manager | G12: Social security insurance records. | J12: - | K12: - | L12: + | M12: +
A13: 9 | B13: Steag Rüzgar Süloğlu Enerji Üretim ve Ticaret Anonim Şirketi | C13: Devrim Tuna | D13: 43709 | E13: 42309 | F13: Mechanical Engineer | G13: Social service / employee lists and social security insurance records. | J13: + | K13: + | L13: + | M13: +
A14: 10 | B14: MY Koruma ve Güvenlik Ltd. Şti. | C14: Gökhan Arslan | D14: 43556 | E14: 42199 | F14: Security Guard | G14: Social service / employee lists and social security insurance records. | J14: + | K14: + | L14: + | M14: +
A15: 11 | B15: MY Koruma ve Güvenlik Ltd. Şti. | C15: Şadi Elemenli | D15: 43557 | E15: 42642 | F15: Security Guard | G15: Social service / employee lists and social security insurance records. | J15: + | K15: + | L15: + | M15: +
A16: 12 | B16: MY Koruma ve Güvenlik Ltd. Şti. | C16: Soykan Vardağ | D16: 43558 | E16: 42736 | F16: Security Guard | G16: Social service / employee lists and social security insurance records. | J16: + | K16: + | L16: + | M16: +
A17: 13 | B17: MY Koruma ve Güvenlik Ltd. Şti. | C17: Volkan Kaser | D17: 43559 | E17: 42216 | F17: Security Guard | G17: Social service / employee lists and social security insurance records. | J17: + | K17: + | L17: + | M17: +
A18: 14 | B18: MY Tesis Yönetimi ve Danışmanlık A.Ş. | C18: Sebahat Özdemir | D18: 43560 | E18: 42796 | F18: Cleaning Services | G18: Social service / employee lists and social security insurance records. | J18: + | K18: - | L18: - | M18: -
A19: 15 | B19: MY Tesis Yönetimi ve Danışmanlık A.Ş. | C19: Kadriye Utkuluer | D19: 43647 | E19: 43662 | F19: Cleaning Services | G19: Social service / employee lists and social security insurance records. | J19: + | K19: + | L19: + | M19: +
A20: 16 | B20: Ecrin Araç Kiralama Taşımacılık San. Tic. Ltd. Şti. | C20: Mehmet Çapan | E20: 44413 | F20: Transportation | G20: Social security insurance records. | J20: - | K20: - | L20: + | M20: +
A21: 17 | B21: SS.108 Nolu Edirne İtimat Min. Mid. Ve Otobüs Mot. Taş. Koop. | C21: Ömer İriş | E21: 43742 | F21: Transportation | G21: Social security insurance records. | J21: + | K21: + | L21: + | M21: +
A22: 18 | B22: MY Tesis Yönetimi ve Danışmanlık A.Ş. | C22: Serhat Bozkurt | E22: 44232 | F22: Application Officer | G22: Social security insurance records. | J22: - | K22: - | L22: + | M22: +
A23: 19 | B23: Vestas Rüzgar Enerjisi Sistemleri San. Tic. Ltd. Şti. | C23: Nedim Çelik | D23: 44013 | F23: Technician | G23: Social service / employee lists. | J23: - | K23: + | L23: + | M23: +
A24: 20 | B24: Vestas Rüzgar Enerjisi Sistemleri San. Tic. Ltd. Şti. | C24: Hamit Aylak | D24: 44013 | F24: Technician | G24: Social service / employee lists. | J24: - | K24: + | L24: + | M24: +
I25: Total Number of Employees Per Year | J25: 14 | K25: 15 | L25: 19 | M25: 19
I26: Average Number of Employees For the Monitoring Period | J26: =AVERAGE(J25:M25) -> 16.75
