Workbook
Name _Hlk77771351: 'Cover Page'!$D$2

Sheet Cover Page
C2: Title of the project activity | D2: Multi-Layer Household Water Filtration System in Kenya
C3: GS ID of the project activity | D3: GS11207
C4: Version number of this calculation sheet | D4: 4
C5: Completion date of version | D5: 24/11/2021
C6: Credit period | D6: 10/10/2020 - 09/10/2025 (both days included)
C7: Project developer | D7: Profit Carbon Environmental Energy Technology (Shanghai) Co., Ltd.

Sheet fNRB
A1: Parameter | B1: Description | C1: Unit | D1: Value | E1: Source
A2: RB | B2: Demonstrably renewable woody biomass | C2: PJ | D2: 243 | E2: https://www.inforse.org/africa/pdfs/Pub_100-Renewable-Energy-Plan-for-Kenya-by-2050-12-08-2020.pdf
A3: Biomass Fuel Consumption | C3: PJ | D3: 724
A4: NRB | B4: Non-renewable woody biomass | C4: PJ | D4: =D3-D2 -> 481 | E4: Calculated
A5: fNRB,f,y | B5: Fractional non-renewability of woody biomass fuels | C5: % | D5: =D4/D3 -> 0.66436464 | E5: Calculated

Sheet Household Size
A1: County | B1: Population | C1: Households | D1: Average Household size
A2: Makueni | B2: 987653 | C2: 244669 | D2: =ROUND(B2/C2,1) -> 4
A3: Trans Nzoia | B3: 990341 | C3: 223808 | D3: =ROUND(B3/C3,1) -> 4.4
A4: Kirinyaga | B4: 610411 | C4: 204188 | D4: =ROUND(B4/C4,1) -> 3
A5: Bungoma | B5: 1670570 | C5: 358796 | D5: =ROUND(B5/C5,1) -> 4.7
A6: Nakuru | B6: 2162202 | C6: 616046 | D6: =ROUND(B6/C6,1) -> 3.5
A7: Total | B7: =SUM(B2:B6) -> 6421177 | C7: =SUM(C2:C6) -> 1647507 | D7: =ROUND(B7/C7,1) -> 3.9

Sheet Baseline Survey
A1: Parameter | B1: Description | C1: Unit | D1: Value | E1: Source
A2: Number of households surveyed in baseline scenario | C2: households | D2: 505 | E2: Baseline Survey
A3: Number of individuals | C3: individuals | D3: 1994 | E3: Baseline Survey
A4: HNp,y | B4: Number of individuals per household | C4: individuals/household | D4: =D3/D2 -> 3.9485149 | E4: Baseline Survey
A5: Liters of water for drinking per household per day | C5: L | D5: 16.8 | E5: Baseline Survey
A6: QPWp | B6: Volume of drinking water per person per day | C6: L/person/day | D6: =D5/D4 -> 4.2547643 | E6: Baseline Survey
A7: Percentage of households available of safe drinking water | C7: % | D7: =37/505 -> 0.073267327 | E7: Baseline Survey
A8: Percentage of households available of unsafe drinking water | C8: % | D8: =468/505 -> 0.92673267 | E8: Baseline Survey
A9: For the not available of safe water, the percentage of HH drink boiled water | C9: % | D9: =332/468 -> 0.70940171 | E9: Baseline Survey
A10: Percentage of households treat unsafe water before drinking | C10: % | D10: =396/505 -> 0.78415842 | E10: Baseline Survey
A11: Percentage of households drink unsafe water directly | C11: % | D11: =72/505 -> 0.14257426 | E11: Baseline Survey
A12: Percentage of households treat unsafe water using gravity household water filters, ultraviolet radiation treatment, reverse osmosis, chlorine tablets and etc | C12: % | D12: =64/396 -> 0.16161616 | E12: Baseline Survey
A13: Percentage of households treat unsafe water by boiling | C13: % | D13: =332/396 -> 0.83838384 | E13: Baseline Survey
A15: Cb | B15: Proportion of project households who in the baseline were already using a safe water supply that did not require boiling it | C15: % | D15: =D7+D10*D12 -> 0.2 | E15: Baseline Survey

Sheet Efficiency of water boiling
A1: Fuel Type | C1: Type of Stove | AB1: Source
C2: Makueni | H2: Trans Nzoia | M2: Kirinyaga | R2: Bungoma | W2: Nakuru
C3: 3-stone | D3: Conventional | E3: Improved | F3: LPG | G3: Total | H3: 3-stone | I3: Conventional | J3: Improved | K3: LPG | L3: Total | M3: 3-stone | N3: Conventional | O3: Improved | P3: LPG | Q3: Total | R3: 3-stone | S3: Conventional | T3: Improved | U3: LPG | V3: Total | W3: 3-stone | X3: Conventional | Y3: Improved | Z3: LPG | AA3: Total
A4: Firewood (agriculture waste included） | C4: =36/48 -> 0.75 | D4: =2/48 -> 0.041666667 | E4: =1/48 -> 0.020833333 | F4: 0 | G4: =SUM(C4:F4) -> 0.8125 | H4: =30/46 -> 0.65217391 | I4: =5/46 -> 0.10869565 | J4: =1/46 -> 0.02173913 | K4: 0 | L4: =SUM(H4:K4) -> 0.7826087 | M4: =64/72 -> 0.88888889 | N4: =3/72 -> 0.041666667 | O4: 0 | P4: 0 | Q4: =SUM(M4:P4) -> 0.93055556 | R4: =48/69 -> 0.69565217 | S4: =5/69 -> 0.072463768 | T4: =2/69 -> 0.028985507 | U4: 0 | V4: =SUM(R4:U4) -> 0.79710145 | W4: =45/97 -> 0.46391753 | X4: =7/97 -> 0.072164948 | Y4: =3/97 -> 0.030927835 | Z4: 0 | AA4: =SUM(W4:Z4) -> 0.56701031 | AB4: Baseline survey
A5: Charcoal | C5: 0 | D5: =8/48 -> 0.16666667 | E5: =1/48 -> 0.020833333 | F5: 0 | G5: =SUM(C5:F5) -> 0.1875 | H5: 0 | I5: =7/46 -> 0.15217391 | J5: =2/46 -> 0.043478261 | K5: 0 | L5: =SUM(H5:K5) -> 0.19565217 | M5: 0 | N5: =4/72 -> 0.055555556 | O5: =1/72 -> 0.013888889 | P5: 0 | Q5: =SUM(M5:P5) -> 0.069444444 | R5: 0 | S5: =9/69 -> 0.13043478 | T5: =3/69 -> 0.043478261 | U5: 0 | V5: =SUM(R5:U5) -> 0.17391304 | W5: 0 | X5: =14/97 -> 0.1443299 | Y5: =7/97 -> 0.072164948 | Z5: 0 | AA5: =SUM(W5:Z5) -> 0.21649485
A6: LPG | C6: 0 | D6: 0 | E6: 0 | F6: 0 | G6: =SUM(C6:F6) -> 0 | H6: 0 | I6: 0 | J6: 0 | K6: =1/46 -> 0.02173913 | L6: =SUM(H6:K6) -> 0.02173913 | M6: 0 | N6: 0 | O6: 0 | P6: 0 | Q6: =SUM(M6:P6) -> 0 | R6: 0 | S6: 0 | T6: 0 | U6: =2/69 -> 0.028985507 | V6: =SUM(R6:U6) -> 0.028985507 | W6: 0 | X6: 0 | Y6: 0 | Z6: =21/97 -> 0.21649485 | AA6: =SUM(W6:Z6) -> 0.21649485
A7: Total | C7: =SUM(C4:C6) -> 0.75 | D7: =SUM(D4:D6) -> 0.20833333 | E7: =SUM(E4:E6) -> 0.041666667 | F7: =SUM(F4:F6) -> 0 | G7: =SUM(C7:F7) -> 1 | H7: =SUM(H4:H6) -> 0.65217391 | I7: =SUM(I4:I6) -> 0.26086957 | J7: =SUM(J4:J6) -> 0.065217391 | K7: =SUM(K4:K6) -> 0.02173913 | L7: =SUM(H7:K7) -> 1 | M7: =SUM(M4:M6) -> 0.88888889 | N7: =SUM(N4:N6) -> 0.097222222 | O7: =SUM(O4:O6) -> 0.013888889 | P7: =SUM(P4:P6) -> 0 | Q7: =SUM(M7:P7) -> 1 | R7: =SUM(R4:R6) -> 0.69565217 | S7: =SUM(S4:S6) -> 0.20289855 | T7: =SUM(T4:T6) -> 0.072463768 | U7: =SUM(U4:U6) -> 0.028985507 | V7: =SUM(R7:U7) -> 1 | W7: =SUM(W4:W6) -> 0.46391753 | X7: =SUM(X4:X6) -> 0.21649485 | Y7: =SUM(Y4:Y6) -> 0.10309278 | Z7: =SUM(Z4:Z6) -> 0.21649485 | AA7: =SUM(W7:Z7) -> 1
A9: Fuel Type | C9: Type of Stove
C10: 3-stone | D10: Conventional | E10: Improved | F10: LPG | G10: Total
A11: Firewood (agriculture waste included） | C11: =(36+30+64+48+45)/(48+46+72+69+97) -> 0.67168675 | D11: =(2+5+3+5+7)/(48+46+72+69+97) -> 0.06626506 | E11: =(1+1+0+2+3)/(48+46+72+69+97) -> 0.021084337 | F11: 0 | G11: =SUM(C11:F11) -> 0.75903614
A12: Charcoal | C12: 0 | D12: =(8+7+4+9+14)/(48+46+72+69+97) -> 0.12650602 | E12: =(1+2+1+3+7)/(48+46+72+69+97) -> 0.042168675 | F12: 0 | G12: =SUM(C12:F12) -> 0.1686747
A13: LPG | C13: 0 | D13: 0 | E13: 0 | F13: =(1+2+21)/(48+46+72+69+97) -> 0.072289157 | G13: =SUM(C13:F13) -> 0.072289157
A14: Total | C14: =SUM(C11:C13) -> 0.67168675 | D14: =SUM(D11:D13) -> 0.19277108 | E14: =SUM(E11:E13) -> 0.063253012 | F14: =SUM(F11:F13) -> 0.072289157 | G14: =SUM(C14:F14) -> 1
A16: Parameter | B16: Description | C16: Unit | D16: Makueni | E16: Trans Nzoia | F16: Kirinyaga | G16: Bungoma | H16: Nakuru | I16: Total | J16: Source
B17: Efficiency of the baseline water boiling . Weighted average of baseline stove types | C17: % | D17: =C7*10%+D7*20%+E7*30%+F7*50% -> 0.12916667 | E17: =H7*10%+I7*20%+J7*30%+K7*50% -> 0.14782609 | F17: =M7*10%+N7*20%+O7*30%+P7*50% -> 0.1125 | G17: =R7*10%+S7*20%+T7*30%+U7*50% -> 0.14637681 | H17: =W7*10%+X7*20%+Y7*30%+Z7*50% -> 0.22886598 | I17: =C14*10%+D14*20%+E14*30%+F14*50% -> 0.16084337 | J17: Calculated based on weighted average of baseline stove type • Three-stone default efficiency 10%. • Other conventional systems default efficiency 20% • Improved cookstoves default efficiency 30% • Fossil fuel combusting system: 50% (Manufacturer specifications)
A18: SEw,b,y | B18: Specific energy required to boil water | C18: kJ/L | D18: =360.83/D17 -> 2793.5226 | E18: =360.83/E17 -> 2440.9088 | F18: =360.83/F17 -> 3207.3778 | G18: =360.83/G17 -> 2465.0762 | H18: =360.83/H17 -> 1576.5995 | I18: =360.83/I17 -> 2243.3625

Sheet  Estimate Parameters
A1: Parameter | B1: Description | C1: Unit | D1: Calculation Method | E1: Value | F1: Source
A2: Up,y | B2: Usage rate of the project technology by premises type p during year y | C2: % | D2: Usage survey | E2: 0.8 | F2: For ex-ante estimation, refer to GS 1078
A3: DPp,y | B3: Days the project technology is present for end-users in the premises p in year y | C3: days | D3: Monitored | E3: 365 | F3: Days of a year
A4: qi | B4: Capacity of the household water treatment technology | C4: L/h | D4: Manufacturer specifications | E4: 3 | F4: Manufacturer specifications
A5: tp,y | B5: Usage time of the project technology by premises type p in year y | C5: h/day | D5: Project survey | E5: 5 | F5: Default value
A6: DNp,y | B6: Average number of individual project technologies in each project premises type p in year y | C6: sets | D6: Project survey | E6: 1 | F6: Estimated
A7: QPWhh,p,y | B7: Volume of drinking water per premises p per day in year y | C7: lppd | D7: Calculated | E7: =MIN(E4*E5*E6,'Baseline Survey'!D6*'Baseline Survey'!D4) -> 15
A8: Xcleanboil,y | B8: Proportion of project households that boil safe water in the project year y | C8: % | D8: Usage survey | E8: 0 | F8: Estimated
A9: Mq,y | B9: Modifier for the water quality in year y | C9: % | D9: Water quality test | E9: 1 | F9: Estimated

Sheet Emisson Factor
A1: Parameter | B1: Description | C1: Unit | D1: Value | E1: Source
A2: Firewood Emission CH4 Conversion Factor | C2: tCH4/TJ | D2: 0.3 | E2: Table 2.5 of Chaper 2 Stationary Combustion of IPCC 2006
A3: Firewood Emission N2O Conversion Factor | C3: tN2O/TJ | D3: 0.004
A4: Charcoal Emission CH4 Conversion Factor | C4: tCH4/TJ | D4: 0.2
A5: Charcoal Emission N2O Conversion Factor | C5: tN2O/TJ | D5: 0.001
A6: LPG Emission CH4 Conversion Factor | C6: tCH4/TJ | D6: 0.005
A7: LPG Emission N2O Conversion Factor | C7: tN2O/TJ | D7: 0.0001
A8: GWP (CH4 to CO2) | D8: 28 | E8: Table 8.7 of 2013 Climate Change 2013 The Physical Science Basis. Contribution of Working Group I to the Fifth Assessment Report of the Intergovernmental Panel on Climate Change (IPCC)
A9: GWP (N2O to CO2) | D9: 265
A10: EFb,firewood,nonCO2 | B10: Non CO2 emissions factor of the firewood that is substituted or reduced | C10: tCO2e/TJ | D10: =D2*D8+D3*D9 -> 9.46 | E10: Calculated
A11: EFb,charcoal,nonCO2 | B11: Non CO2 emissions factor of the charcoal that is substituted or reduced | C11: tCO2e/TJ | D11: 44.83 | E11: Methodology for Emission reductions from safe drinking water supply (Version 1.0)
A12: EFb,LPG,nonCO2 | B12: Non CO2 emissions factor of LPG that is substituted or reduced | C12: tCO2e/TJ | D12: =D6*D8+D7*D9 -> 0.1665 | E12: Calculated
A13: EFb,firewood,CO2 | B13: CO2 emissions factor of the fuel (firewood) that it substituted or reduced | C13: tCO2/TJ | D13: 112 | E13: IPCC 2006 default value (Table 1.4 of Chapter 1 Introduction)
A14: EFb,charcoal,CO2 | B14: CO2 emissions factor of the fuel (charcoal) that it substituted or reduced | C14: tCO2/TJ | D14: 165.22 | E14: Methodology for Emission reductions from safe drinking water supply (Version 1.0)
A15: EFb,LPG,CO2 | B15: CO2 emissions factor of the fuel (LPG) that it substituted or reduced | C15: tCO2/TJ | D15: 63.1 | E15: IPCC 2006 default value (Table 1.4 of Chapter 1 Introduction)

Sheet Baseline and project Emissions
A1: Parameter | B1: Description | C1: Unit | D1: Makueni | E1: Trans Nzoia | F1: Kirinyaga | G1: Bungoma | H1: Nakuru | I1: Source
A2: EFb | B2: Emission factor for the use of fuel to obtain safe water in the baseline | C2: tCO2e/L | D2: ='Efficiency of water boiling'!D18*('Efficiency of water boiling'!G4*('Emisson Factor'!D13*fNRB!D5+'Emisson Factor'!D10)+'Efficiency of water boiling'!G5*('Emisson Factor'!D14*fNRB!D5+'Emisson Factor'!D11)+'Efficiency of water boiling'!G6*('Emisson Factor'!D15+'Emisson Factor'!D12))/1000000000 -> 0.00027133553 | E2: ='Efficiency of water boiling'!E18*('Efficiency of water boiling'!L4*('Emisson Factor'!D13*fNRB!D5+'Emisson Factor'!D10)+'Efficiency of water boiling'!L5*('Emisson Factor'!D14*fNRB!D5+'Emisson Factor'!D11)+'Efficiency of water boiling'!L6*('Emisson Factor'!D12+'Emisson Factor'!D15))/1000000000 -> 0.00023740023 | F2: ='Efficiency of water boiling'!F18*('Efficiency of water boiling'!Q4*('Emisson Factor'!D13*fNRB!D5+'Emisson Factor'!D10)+'Efficiency of water boiling'!Q5*('Emisson Factor'!D14*fNRB!D5+'Emisson Factor'!D11)+'Efficiency of water boiling'!Q6*('Emisson Factor'!D12+'Emisson Factor'!D15))/1000000000 -> 0.00028475251 | G2: ='Efficiency of water boiling'!G18*('Efficiency of water boiling'!V4*('Emisson Factor'!D13*fNRB!D5+'Emisson Factor'!D10)+'Efficiency of water boiling'!V5*('Emisson Factor'!D14*fNRB!D5+'Emisson Factor'!D11)+'Efficiency of water boiling'!V6*('Emisson Factor'!D15+'Emisson Factor'!D12))/1000000000 -> 0.00023559252 | H2: ='Efficiency of water boiling'!H18*('Efficiency of water boiling'!AA4*('Emisson Factor'!D13*fNRB!D5+'Emisson Factor'!D10)+'Efficiency of water boiling'!AA5*('Emisson Factor'!D14*fNRB!D5+'Emisson Factor'!D11)+'Efficiency of water boiling'!AA6*('Emisson Factor'!D15+'Emisson Factor'!D12))/1000000000 -> 0.00014933657
A3: Qy | B3: Quantity of safe drinking water provided by the project in year y | C3: L | D3: Refer to the calculation sheet below
A4: BEy | B4: Baseline emissions from the use of fuel to obtain safe water in the baseline | C4: tCO2e | D4: Refer to the calculation sheet below
A5: Np,y | B5: Number of premises type p with at least one project technology in year y | C5: number | D5: Refer to the calculation sheet below | I5: Sales database
A6: PEy | B6: Project emissions in year y | C6: tCO2e | D6: 0 | I6: For ante-exmation, it is assumed that there is no fossil fuel, woody biomass or electricity used in the project scenario
A7: LEy | B7: Leakage in project scenario p during year y | C7: tCO2e | D7: 0 | I7: Refero to the PDD for more details
A9: County | B9: Sales Plan for the Water Purifiers (year 1-5, sets) | C9: Np,y (number) | D9: Qy (L) | E9: BEy (tCO2e) | F9: Year | G9: Np,y (number) | H9: Qy (L) | I9: BEy (tCO2e)
A10: Makueni | B10: 80000 | C10: =B10/' Estimate Parameters'!$E$6 -> 80000 | D10: =C10*' Estimate Parameters'!$E$2*' Estimate Parameters'!$E$7*' Estimate Parameters'!$E$3 -> 350400000 | E10: =$D$2*(1-'Baseline Survey'!$D$15-' Estimate Parameters'!$E$8)*'Baseline and project Emissions'!D10*' Estimate Parameters'!$E$9 -> 76060.775 | F10: 1 | G10: =C10+C16+C22+C28+C34 -> 480000 | H10: =D10+D16+D22+D28+D34 -> 2102400000 | I10: =E10+E16+E22+E28+E34 -> 368069.26
B11: 20000 | C11: =(C10+B11)/' Estimate Parameters'!$E$6 -> 100000 | D11: =C11*' Estimate Parameters'!$E$2*' Estimate Parameters'!$E$7*' Estimate Parameters'!$E$3 -> 438000000 | E11: =$D$2*(1-'Baseline Survey'!$D$15-' Estimate Parameters'!$E$8)*'Baseline and project Emissions'!D11*' Estimate Parameters'!$E$9 -> 95075.969 | F11: 2 | G11: =C11+C17+C23+C29+C35 -> 602500 | H11: =D11+D17+D23+D29+D35 -> 2638950000 | I11: =E11+E17+E23+E29+E35 -> 460883.02
B12: 5000 | C12: =(C11+B12)/' Estimate Parameters'!$E$6 -> 105000 | D12: =C12*' Estimate Parameters'!$E$2*' Estimate Parameters'!$E$7*' Estimate Parameters'!$E$3 -> 459900000 | E12: =$D$2*(1-'Baseline Survey'!$D$15-' Estimate Parameters'!$E$8)*'Baseline and project Emissions'!D12*' Estimate Parameters'!$E$9 -> 99829.768 | F12: 3 | G12: =C12+C18+C24+C30+C36 -> 635000 | H12: =D12+D18+D24+D30+D36 -> 2781300000 | I12: =E12+E18+E24+E30+E36 -> 485278.03
B13: 1250 | C13: =(C12+B13)/' Estimate Parameters'!$E$6 -> 106250 | D13: =C13*' Estimate Parameters'!$E$2*' Estimate Parameters'!$E$7*' Estimate Parameters'!$E$3 -> 465375000 | E13: =$D$2*(1-'Baseline Survey'!$D$15-' Estimate Parameters'!$E$8)*'Baseline and project Emissions'!D13*' Estimate Parameters'!$E$9 -> 101018.22 | F13: 4 | G13: =C13+C19+C25+C31+C37 -> 642500 | H13: =D13+D19+D25+D31+D37 -> 2814150000 | I13: =E13+E19+E25+E31+E37 -> 491050.21
B14: 450 | C14: =(C13+B14)/' Estimate Parameters'!$E$6 -> 106700 | D14: =C14*' Estimate Parameters'!$E$2*' Estimate Parameters'!$E$7*' Estimate Parameters'!$E$3 -> 467346000 | E14: =$D$2*(1-'Baseline Survey'!$D$15-' Estimate Parameters'!$E$8)*'Baseline and project Emissions'!D14*' Estimate Parameters'!$E$9 -> 101446.06 | F14: 5 | G14: =C14+C20+C26+C32+C38 -> 644850 | H14: =D14+D20+D26+D32+D38 -> 2824443000 | I14: =E14+E20+E26+E32+E38 -> 492912.9
A15: Total | B15: =SUM(B10:B14) -> 106700 | C15: =C14 -> 106700 | D15: =SUM(D10:D14) -> 2181021000 | E15: =SUM(E10:E14) -> 473430.79 | F15: Total | G15: =G14 -> 644850 | H15: =H14 -> 2824443000 | I15: =ROUNDDOWN(SUM(I10:I14),0) -> 2298193
A16: Trans Nzoia | B16: =75000 -> 75000 | C16: =B16/' Estimate Parameters'!$E$6 -> 75000 | D16: =C16*' Estimate Parameters'!$E$2*' Estimate Parameters'!$E$7*' Estimate Parameters'!$E$3 -> 328500000 | E16: =$E$2*(1-'Baseline Survey'!$D$15-' Estimate Parameters'!$E$8)*'Baseline and project Emissions'!D16*' Estimate Parameters'!$E$9 -> 62388.78 | F16: Average | G16: =G15/5 -> 128970 | H16: =H15/5 -> 564888600 | I16: =ROUNDDOWN(AVERAGE(I10:I14),0) -> 459638
B17: 18000 | C17: =(C16+B17)/' Estimate Parameters'!$E$6 -> 93000 | D17: =C17*' Estimate Parameters'!$E$2*' Estimate Parameters'!$E$7*' Estimate Parameters'!$E$3 -> 407340000 | E17: =$E$2*(1-'Baseline Survey'!$D$15-' Estimate Parameters'!$E$8)*'Baseline and project Emissions'!D17*' Estimate Parameters'!$E$9 -> 77362.087
B18: 4500 | C18: =(C17+B18)/' Estimate Parameters'!$E$6 -> 97500 | D18: =C18*' Estimate Parameters'!$E$2*' Estimate Parameters'!$E$7*' Estimate Parameters'!$E$3 -> 427050000 | E18: =$E$2*(1-'Baseline Survey'!$D$15-' Estimate Parameters'!$E$8)*'Baseline and project Emissions'!D18*' Estimate Parameters'!$E$9 -> 81105.414
B19: 1200 | C19: =(C18+B19)/' Estimate Parameters'!$E$6 -> 98700 | D19: =C19*' Estimate Parameters'!$E$2*' Estimate Parameters'!$E$7*' Estimate Parameters'!$E$3 -> 432306000 | E19: =$E$2*(1-'Baseline Survey'!$D$15-' Estimate Parameters'!$E$8)*'Baseline and project Emissions'!D19*' Estimate Parameters'!$E$9 -> 82103.634
B20: 400 | C20: =(C19+B20)/' Estimate Parameters'!$E$6 -> 99100 | D20: =C20*' Estimate Parameters'!$E$2*' Estimate Parameters'!$E$7*' Estimate Parameters'!$E$3 -> 434058000 | E20: =$E$2*(1-'Baseline Survey'!$D$15-' Estimate Parameters'!$E$8)*'Baseline and project Emissions'!D20*' Estimate Parameters'!$E$9 -> 82436.374
A21: Total | B21: =SUM(B16:B20) -> 99100 | C21: =C20 -> 99100 | D21: =SUM(D16:D20) -> 2029254000 | E21: =SUM(E16:E20) -> 385396.29
A22: Kirinyaga | B22: =65000 -> 65000 | C22: =B22/' Estimate Parameters'!$E$6 -> 65000 | D22: =C22*' Estimate Parameters'!$E$2*' Estimate Parameters'!$E$7*' Estimate Parameters'!$E$3 -> 284700000 | E22: =$F$2*(1-'Baseline Survey'!$D$15-' Estimate Parameters'!$E$8)*'Baseline and project Emissions'!D22*' Estimate Parameters'!$E$9 -> 64855.231
B23: 15500 | C23: =(C22+B23)/' Estimate Parameters'!$E$6 -> 80500 | D23: =C23*' Estimate Parameters'!$E$2*' Estimate Parameters'!$E$7*' Estimate Parameters'!$E$3 -> 352590000 | E23: =$F$2*(1-'Baseline Survey'!$D$15-' Estimate Parameters'!$E$8)*'Baseline and project Emissions'!D23*' Estimate Parameters'!$E$9 -> 80320.71
B24: 4000 | C24: =(C23+B24)/' Estimate Parameters'!$E$6 -> 84500 | D24: =C24*' Estimate Parameters'!$E$2*' Estimate Parameters'!$E$7*' Estimate Parameters'!$E$3 -> 370110000 | E24: =$F$2*(1-'Baseline Survey'!$D$15-' Estimate Parameters'!$E$8)*'Baseline and project Emissions'!D24*' Estimate Parameters'!$E$9 -> 84311.801
B25: 1000 | C25: =(C24+B25)/' Estimate Parameters'!$E$6 -> 85500 | D25: =C25*' Estimate Parameters'!$E$2*' Estimate Parameters'!$E$7*' Estimate Parameters'!$E$3 -> 374490000 | E25: =$F$2*(1-'Baseline Survey'!$D$15-' Estimate Parameters'!$E$8)*'Baseline and project Emissions'!D25*' Estimate Parameters'!$E$9 -> 85309.574
B26: 350 | C26: =(C25+B26)/' Estimate Parameters'!$E$6 -> 85850 | D26: =C26*' Estimate Parameters'!$E$2*' Estimate Parameters'!$E$7*' Estimate Parameters'!$E$3 -> 376023000 | E26: =$F$2*(1-'Baseline Survey'!$D$15-' Estimate Parameters'!$E$8)*'Baseline and project Emissions'!D26*' Estimate Parameters'!$E$9 -> 85658.794
A27: Total | B27: =SUM(B22:B26) -> 85850 | C27: =C26 -> 85850 | D27: =SUM(D22:D26) -> 1757913000 | E27: =SUM(E22:E26) -> 400456.11
A28: Bungoma | B28: =100000*0.95 -> 95000 | C28: =B28/' Estimate Parameters'!$E$6 -> 95000 | D28: =C28*' Estimate Parameters'!$E$2*' Estimate Parameters'!$E$7*' Estimate Parameters'!$E$3 -> 416100000 | E28: =$G$2*(1-'Baseline Survey'!$D$15-' Estimate Parameters'!$E$8)*'Baseline and project Emissions'!D28*' Estimate Parameters'!$E$9 -> 78424.038
B29: 24000 | C29: =(C28+B29)/' Estimate Parameters'!$E$6 -> 119000 | D29: =C29*' Estimate Parameters'!$E$2*' Estimate Parameters'!$E$7*' Estimate Parameters'!$E$3 -> 521220000 | E29: =$G$2*(1-'Baseline Survey'!$D$15-' Estimate Parameters'!$E$8)*'Baseline and project Emissions'!D29*' Estimate Parameters'!$E$9 -> 98236.427
B30: 6500 | C30: =(C29+B30)/' Estimate Parameters'!$E$6 -> 125500 | D30: =C30*' Estimate Parameters'!$E$2*' Estimate Parameters'!$E$7*' Estimate Parameters'!$E$3 -> 549690000 | E30: =$G$2*(1-'Baseline Survey'!$D$15-' Estimate Parameters'!$E$8)*'Baseline and project Emissions'!D30*' Estimate Parameters'!$E$9 -> 103602.28
B31: 1550 | C31: =(C30+B31)/' Estimate Parameters'!$E$6 -> 127050 | D31: =C31*' Estimate Parameters'!$E$2*' Estimate Parameters'!$E$7*' Estimate Parameters'!$E$3 -> 556479000 | E31: =$G$2*(1-'Baseline Survey'!$D$15-' Estimate Parameters'!$E$8)*'Baseline and project Emissions'!D31*' Estimate Parameters'!$E$9 -> 104881.83
B32: 500 | C32: =(C31+B32)/' Estimate Parameters'!$E$6 -> 127550 | D32: =C32*' Estimate Parameters'!$E$2*' Estimate Parameters'!$E$7*' Estimate Parameters'!$E$3 -> 558669000 | E32: =$G$2*(1-'Baseline Survey'!$D$15-' Estimate Parameters'!$E$8)*'Baseline and project Emissions'!D32*' Estimate Parameters'!$E$9 -> 105294.59
A33: Total | B33: =SUM(B28:B32) -> 127550 | C33: =C32 -> 127550 | D33: =SUM(D28:D32) -> 2602158000 | E33: =SUM(E28:E32) -> 490439.17
A34: Nakuru | B34: 165000 | C34: =B34/' Estimate Parameters'!$E$6 -> 165000 | D34: =C34*' Estimate Parameters'!$E$2*' Estimate Parameters'!$E$7*' Estimate Parameters'!$E$3 -> 722700000 | E34: =$H$2*(1-'Baseline Survey'!$D$15-' Estimate Parameters'!$E$8)*'Baseline and project Emissions'!D34*' Estimate Parameters'!$E$9 -> 86340.434
B35: 45000 | C35: =(C34+B35)/' Estimate Parameters'!$E$6 -> 210000 | D35: =C35*' Estimate Parameters'!$E$2*' Estimate Parameters'!$E$7*' Estimate Parameters'!$E$3 -> 919800000 | E35: =$H$2*(1-'Baseline Survey'!$D$15-' Estimate Parameters'!$E$8)*'Baseline and project Emissions'!D35*' Estimate Parameters'!$E$9 -> 109887.82
B36: 12500 | C36: =(C35+B36)/' Estimate Parameters'!$E$6 -> 222500 | D36: =C36*' Estimate Parameters'!$E$2*' Estimate Parameters'!$E$7*' Estimate Parameters'!$E$3 -> 974550000 | E36: =$H$2*(1-'Baseline Survey'!$D$15-' Estimate Parameters'!$E$8)*'Baseline and project Emissions'!D36*' Estimate Parameters'!$E$9 -> 116428.77
B37: 2500 | C37: =(C36+B37)/' Estimate Parameters'!$E$6 -> 225000 | D37: =C37*' Estimate Parameters'!$E$2*' Estimate Parameters'!$E$7*' Estimate Parameters'!$E$3 -> 985500000 | E37: =$H$2*(1-'Baseline Survey'!$D$15-' Estimate Parameters'!$E$8)*'Baseline and project Emissions'!D37*' Estimate Parameters'!$E$9 -> 117736.96
B38: 650 | C38: =(C37+B38)/' Estimate Parameters'!$E$6 -> 225650 | D38: =C38*' Estimate Parameters'!$E$2*' Estimate Parameters'!$E$7*' Estimate Parameters'!$E$3 -> 988347000 | E38: =$H$2*(1-'Baseline Survey'!$D$15-' Estimate Parameters'!$E$8)*'Baseline and project Emissions'!D38*' Estimate Parameters'!$E$9 -> 118077.08
A39: Total | B39: =SUM(B34:B38) -> 225650 | C39: =C38 -> 225650 | D39: =SUM(D34:D38) -> 4590897000 | E39: =SUM(E34:E38) -> 548471.07
A41: Default amount of energy required to boil 1 L of water from a first principles approach (kJ/L) | D41: 360.83
A42: Efficiency of the baseline water boiling . Weighted average of baseline stove types (ηwb) | D42: ='Efficiency of water boiling'!I17 -> 0.16084337
A43: Annual average thermal energy savings (GJ) | D43: =D41*H16/1000000/D42 -> 1267249.9
A44: Unit conversion from GJ to GWhth | D44: =3/(3.6*1000) -> 0.00083333333
A45: Annual average thermal energy savings (GWhth) | D45: =D43*D44 -> 1056.0416

Sheet SDG Outcomes
A1: SDG 13
A2: Year | B2: BEy（CO2e） | C2: PEy （tCO2e） | D2: LEy（tCO2e） | E2: Emission Reductions (ERy, tCO2e）
A3: 1 | B3: ='Baseline and project Emissions'!I10 -> 368069.26 | C3: ='Baseline and project Emissions'!$H$6 -> 0 | D3: ='Baseline and project Emissions'!$H$7 -> 0 | E3: =B3-C3-D3 -> 368069.26
A4: 2 | B4: ='Baseline and project Emissions'!I11 -> 460883.02 | C4: ='Baseline and project Emissions'!$H$6 -> 0 | D4: ='Baseline and project Emissions'!$H$7 -> 0 | E4: =B4-C4-D4 -> 460883.02
A5: 3 | B5: ='Baseline and project Emissions'!I12 -> 485278.03 | C5: ='Baseline and project Emissions'!$H$6 -> 0 | D5: ='Baseline and project Emissions'!$H$7 -> 0 | E5: =B5-C5-D5 -> 485278.03
A6: 4 | B6: ='Baseline and project Emissions'!I13 -> 491050.21 | C6: ='Baseline and project Emissions'!$H$6 -> 0 | D6: ='Baseline and project Emissions'!$H$7 -> 0 | E6: =B6-C6-D6 -> 491050.21
A7: 5 | B7: ='Baseline and project Emissions'!I14 -> 492912.9 | C7: ='Baseline and project Emissions'!$H$6 -> 0 | D7: ='Baseline and project Emissions'!$H$7 -> 0 | E7: =B7-C7-D7 -> 492912.9
A8: Total | B8: =SUM(B3:B7) -> 2298193.4 | C8: =SUM(C3:C7) -> 0 | D8: =SUM(D3:D7) -> 0 | E8: =ROUNDDOWN(SUM(E3:E7),0) -> 2298193
A9: Average | B9: =ROUNDDOWN(B8/5,0) -> 459638 | C9: =C8/5 -> 0 | D9: =D8/5 -> 0 | E9: =ROUNDDOWN(E8/5,0) -> 459638
A11: SDG 8
A12: Year | B12: Number of males and females employed | C12: Percentage of employees with salaries paid at par with the average wage of Kenya
A13: 1 | B13: 12 people (6 males, 6 females) | C13: 1
A14: 2 | B14: 12 people (6 males, 6 females) | C14: 1
A15: 3 | B15: 12 people (6 males, 6 females) | C15: 1
A16: 4 | B16: 12 people (6 males, 6 females) | C16: 1
A17: 5 | B17: 12 people (6 males, 6 females) | C17: 1
A18: Total | B18: 12 people (6 males, 6 females) | C18: 1
A19: Average | B19: 12 people (6 males, 6 females) | C19: 1
A21: SDG 6 (person.days)
A22: Year | B22: Net benefit= Np,y*HNp,y*DPp,y*Up,y*Mq,y
A23: 1 | B23: ='Baseline and project Emissions'!G10*'Baseline Survey'!$D$4*' Estimate Parameters'!$E$3*' Estimate Parameters'!$E$2*' Estimate Parameters'!$E$9 -> 5.5342384e+08
A24: 2 | B24: ='Baseline and project Emissions'!G11*'Baseline Survey'!$D$4*' Estimate Parameters'!$E$3*' Estimate Parameters'!$E$2*' Estimate Parameters'!$E$9 -> 6.9466222e+08
A25: 3 | B25: ='Baseline and project Emissions'!G12*'Baseline Survey'!$D$4*' Estimate Parameters'!$E$3*' Estimate Parameters'!$E$2*' Estimate Parameters'!$E$9 -> 7.3213362e+08
A26: 4 | B26: ='Baseline and project Emissions'!G13*'Baseline Survey'!$D$4*' Estimate Parameters'!$E$3*' Estimate Parameters'!$E$2*' Estimate Parameters'!$E$9 -> 7.4078087e+08
A27: 5 | B27: ='Baseline and project Emissions'!G14*'Baseline Survey'!$D$4*' Estimate Parameters'!$E$3*' Estimate Parameters'!$E$2*' Estimate Parameters'!$E$9 -> 7.4349034e+08
A28: Total | B28: =ROUNDDOWN(SUM(B23:B27),0) -> 3464490896
A29: Average | B29: =ROUNDDOWN(B28/5,0) -> 692898179
A31: SDG 3
A32: Year | B32: Water purifiers sold (sets)
A33: 1 | B33: ='Baseline and project Emissions'!B10+'Baseline and project Emissions'!B16+'Baseline and project Emissions'!B22+'Baseline and project Emissions'!B28+'Baseline and project Emissions'!B34 -> 480000
A34: 2 | B34: ='Baseline and project Emissions'!B11+'Baseline and project Emissions'!B17+'Baseline and project Emissions'!B23+'Baseline and project Emissions'!B29+'Baseline and project Emissions'!B35 -> 122500
A35: 3 | B35: ='Baseline and project Emissions'!B12+'Baseline and project Emissions'!B18+'Baseline and project Emissions'!B24+'Baseline and project Emissions'!B30+'Baseline and project Emissions'!B36 -> 32500
A36: 4 | B36: ='Baseline and project Emissions'!B13+'Baseline and project Emissions'!B19+'Baseline and project Emissions'!B25+'Baseline and project Emissions'!B31+'Baseline and project Emissions'!B37 -> 7500
A37: 5 | B37: ='Baseline and project Emissions'!B14+'Baseline and project Emissions'!B20+'Baseline and project Emissions'!B26+'Baseline and project Emissions'!B32+'Baseline and project Emissions'!B38 -> 2350
A38: Total | B38: =SUM(B33:B37) -> 644850
A39: Average | B39: =B38/5 -> 128970
